BEGIN:VCALENDAR
VERSION:2.0
PRODID:-//ChamberMaster//Event Calendar 2.0//EN
METHOD:PUBLISH
X-PUBLISHED-TTL:P3D
REFRESH-INTERVAL:P3D
CALSCALE:GREGORIAN
BEGIN:VEVENT
DTSTART;VALUE=DATE:20260427
DTEND;VALUE=DATE:20260428
TRANSP:TRANSPARENT
X-MICROSOFT-CDO-ALLDAYEVENT:TRUE
SUMMARY:APEX Accelerator Orientation: Is Government Contracting Right for Your Business?
DESCRIPTION:Government contracts are potentially a tremendous financial opportunity for small businesses. The U.S. government is the largest customer in the world. It buys all types of products and services - in both large and small quantities - and it's required by law to consider buying from small businesses. Join the APEX Accelerator's office to learn about assessment tools you can use to evaluate your company's readiness to enter the government marketplace.\n\nThis virtual event is free\, but registration is required: https://events.teams.microsoft.com/event/cac70537-2b5c-4106-952d-6939be5d6bf0@253e7787-672d-4071-9290-fc3db5246db7 \n\nEast Michigan APEX Accelerator is funded in part through a cooperative agreement with the Department of Defense (DOD)\, and in part by the Michigan Economic Development Corporation (MEDC).
X-ALT-DESC;FMTTYPE=text/html:<p style="color: rgb(0\, 0\, 0)\; font-family: Figtree\; font-size: 16px\;"><span style="font-family:arial\;">Government contracts are potentially a tremendous financial opportunity for small businesses. The U.S. government is the largest customer in the world. It buys all types of products and services - in both large and small quantities - and it&#39\;s required by law to consider buying from small businesses. Join the APEX Accelerator&#39\;s office to learn about assessment tools you can use to evaluate your company&#39\;s readiness to enter the government marketplace.</span></p>\n\n<p style="color: rgb(0\, 0\, 0)\; font-family: Figtree\; font-size: 16px\;"><span style="font-family:arial\;">This virtual event is free\, but registration is required:&nbsp\;<a href="https://events.teams.microsoft.com/event/cac70537-2b5c-4106-952d-6939be5d6bf0@253e7787-672d-4071-9290-fc3db5246db7" style="color: rgb(52\, 103\, 147)\; text-decoration-line: none\;">https://events.teams.microsoft.com/event/cac70537-2b5c-4106-952d-6939be5d6bf0@253e7787-672d-4071-9290-fc3db5246db7</a>&nbsp\;</span></p>\n\n<p style="color: rgb(0\, 0\, 0)\; font-family: Figtree\; font-size: 16px\;"><span style="font-family:arial\;">East Michigan APEX Accelerator is funded in part through a cooperative agreement with the Department of Defense (DOD)\, and in part by the Michigan Economic Development Corporation (MEDC).</span></p>\n
LOCATION:
UID:e.2606.20336
SEQUENCE:3
DTSTAMP:20260424T224654Z
URL:http://members.flintandgeneseechamber.org/events/details/apex-accelerator-orientation-is-government-contracting-right-for-your-business-04-27-2026-20336
END:VEVENT

END:VCALENDAR
