BEGIN:VCALENDAR
VERSION:2.0
PRODID:-//ChamberMaster//Event Calendar 2.0//EN
METHOD:PUBLISH
X-PUBLISHED-TTL:P3D
REFRESH-INTERVAL:P3D
CALSCALE:GREGORIAN
BEGIN:VEVENT
DTSTART:20260527T150000Z
DTEND:20260527T154500Z
X-MICROSOFT-CDO-ALLDAYEVENT:FALSE
SUMMARY:Beyond SAM: How to Win Your First Contract
DESCRIPTION:For many small businesses\, completing the federal registration process feels like the finish line. In reality\, an active SAM profile is simply your "entry ticket" to the stadium it doesn't guarantee you a seat at the table\, let alone a win. If you've been waiting for the government to find you\, it's time to shift from passive registration to proactive pursuit.\n\n \n\nJoin us for a webinar designed to bridge the gap between "Registered" and "Revenue-Generating."
X-ALT-DESC;FMTTYPE=text/html:<p style="margin-top: 0px\; margin-bottom: 10px\; line-height: 23.2px\; color: rgb(0\, 0\, 0)\; font-family: Lato\, Arial\, Helvetica\, sans-serif\; font-size: 16px\;">For many small businesses\, completing the federal registration process feels like the finish line. In reality\,&nbsp\;<em><strong>an active SAM profile is simply your &quot\;entry ticket&quot\; to the stadium</strong></em>&mdash\;it doesn&#39\;t guarantee you a seat at the table\, let alone a win.&nbsp\;<strong>If you&rsquo\;ve been waiting for the government to find you\, it&rsquo\;s time to shift from passive registration to proactive pursuit.</strong></p>\n\n<p style="margin-top: 0px\; margin-bottom: 10px\; line-height: 23.2px\; color: rgb(0\, 0\, 0)\; font-family: Lato\, Arial\, Helvetica\, sans-serif\; font-size: 16px\;">&nbsp\;</p>\n\n<p style="margin-top: 0px\; margin-bottom: 10px\; line-height: 23.2px\; color: rgb(0\, 0\, 0)\; font-family: Lato\, Arial\, Helvetica\, sans-serif\; font-size: 16px\;">Join us for a webinar designed to&nbsp\;<strong>bridge the gap</strong>&nbsp\;between &quot\;<strong>Registered</strong>&quot\; and &quot\;<strong>Revenue-Generating</strong>.&quot\;&nbsp\;</p>\n
LOCATION:Virtual Meeting | Microsoft Teams
UID:e.2606.20335
SEQUENCE:3
DTSTAMP:20260425T121603Z
URL:http://members.flintandgeneseechamber.org/events/details/beyond-sam-how-to-win-your-first-contract-20335
END:VEVENT

END:VCALENDAR
