BEGIN:VCALENDAR
VERSION:2.0
PRODID:-//ChamberMaster//Event Calendar 2.0//EN
METHOD:PUBLISH
X-PUBLISHED-TTL:P3D
REFRESH-INTERVAL:P3D
CALSCALE:GREGORIAN
BEGIN:VEVENT
DTSTART:20260604T120000Z
DTEND:20260604T200000Z
X-MICROSOFT-CDO-ALLDAYEVENT:FALSE
SUMMARY:Boys & Girls Clubs of Greater Flint Spring Clean Up Event
DESCRIPTION:This spring\, we're calling on volunteers of all ages to join us in making a difference for the kids\, families\, and neighbors of the Boys & Girls Clubs of Greater Flint. The Spring Club Clean Up Event is your chance to roll up your sleeves\, get involved\, and help create a safer\, cleaner\, and more welcoming environment for everyone.\n\nWhy It Matters:\n\nOur Club is more than just a building it's a home away from home for the kids we serve every day. They walk and drive through Averill Avenue\, and we want to ensure their journey to the Club is as safe and inspiring as the experiences they have once they arrive. That's why\, this year\, we're expanding our efforts beyond the Club to include a community-wide clean-up of Averill Avenue\, improving the neighborhood for the youth\, families\, and residents who live and work nearby.
X-ALT-DESC;FMTTYPE=text/html:<p>This spring\, we&rsquo\;re calling on volunteers of all ages to join us in making a difference for the kids\, families\, and neighbors of the Boys &amp\; Girls Clubs of Greater Flint. The Spring Club Clean Up Event is your chance to roll up your sleeves\, get involved\, and help create a safer\, cleaner\, and more welcoming environment for everyone.</p>\n\n<p>Why It Matters:</p>\n\n<p>Our Club is more than just a building&mdash\;it&rsquo\;s a home away from home for the kids we serve every day. They walk and drive through Averill Avenue\, and we want to ensure their journey to the Club is as safe and inspiring as the experiences they have once they arrive. That&rsquo\;s why\, this year\, we&rsquo\;re expanding our efforts beyond the Club to include a community-wide clean-up of Averill Avenue\, improving the neighborhood for the youth\, families\, and residents who live and work nearby.</p>\n
LOCATION:Boys & Girls Clubs of Greater Flint- 3701 N. Averill Avenue\, Flint\, MI 48506
UID:e.2606.20322
SEQUENCE:3
DTSTAMP:20260423T004726Z
URL:http://members.flintandgeneseechamber.org/events/details/boys-girls-clubs-of-greater-flint-spring-clean-up-event-20322
END:VEVENT

END:VCALENDAR
