BEGIN:VCALENDAR
VERSION:2.0
PRODID:-//ChamberMaster//Event Calendar 2.0//EN
METHOD:PUBLISH
X-PUBLISHED-TTL:P3D
REFRESH-INTERVAL:P3D
CALSCALE:GREGORIAN
BEGIN:VEVENT
DTSTART:20260507T121500Z
DTEND:20260507T200000Z
X-MICROSOFT-CDO-ALLDAYEVENT:FALSE
SUMMARY:DARPA Connect Mission Connect: Michigan
DESCRIPTION:DARPA invites you to DARPAConnect Mission Connect: Michigan\, at the Central Campus Classroom Building at University of Michigan. This is a one-day event packed with actionable guidance\, robust technical panels\, and research spotlights designed to equip innovators with key insights on how to contribute to emerging national security challenges.\n\n \n\nWhy DARPA?\n\nDARPA (the Defense Advanced Research Projects Agency) is the U.S. Department of War's premier R&D agency\, pursuing breakthrough innovations across artificial intelligence\, biotechnology\, advanced manufacturing\, microelectronics\, autonomy\, and more.\n\nKnown for turning bold ideas into real-world capabilities\, DARPA plays a critical role in delivering advanced technology to the warfighter at speed.\n\n \n\nWhat is Mission Connect?\n\nMission Connect is a new DARPAConnect event format that goes beyond traditional "How to DARPA" sessions. \n\nThese events are designed to:\n\n        Reach: Make innovation accessible and connection achievable.\n\n        Disrupt: Redefine the possible.\n\n        Propel: Engage\, excite\, optimize.\n\nYou'll gain a clear understanding of where DARPA is investing\, what's coming next\, and how to engage.\n\n \n\nEvent Theme: Industrial Transformation\n\nThis Mission Connect focuses on industrial transformation and its role in strengthening national security.\n\nDARPA is advancing efforts to rebuild and modernize the U.S. industrial base by:\n\n   Strengthening domestic manufacturing and supply chains\n\n   Accelerating the transition of critical technologies\n\n   Delivering capability to the warfighter faster and at scale\n\n \n\nWhat to Expect:\n\nThis full-day event brings together industry\, academia\, and emerging businesses to engage directly with DARPA leadership and Program Managers. You will:\n\n   Explore DARPA Portfolios: Understand active research areas and future directions\n\n   Engage with Program Managers: Learn how to align your work with DARPA priorities\n\n   Identify Opportunities: See where your technology fits within mission needs\n\n   Experience Demos: Participate in technical discussions and see emerging capabilities\n\n   Build Connections: Network with DARPA and regional innovators \n\n \n\nProgram Managers will share how their portfolios align to this effort and where they are seeking new ideas and performers.\n\n \n\nWhat You'll Gain:\n\n   Practical guidance and best practices for navigating DARPA's research environment and how to engage with the agency and Program Managers.\n\n   A deeper understanding of research portfolios and technical domains that challenge assumptions and redefine what's possible.\n\n   An opportunity to explore emerging ideas and interest areas directly with Program Managers in specific research themes.\n\n   Robust networking with Program Managers and regional partners to build momentum and turn interest into action.\n\n \n\nBreakfast\, lunch\, and refreshments will be provided for all in-person participants.\n\n \n\nDon't miss this opportunity to engage directly with DARPA and contribute to advancing industrial transformation and national security innovation.\n\n \n\nSpace is limited. Register today. We look forward to seeing you in Michigan!
X-ALT-DESC;FMTTYPE=text/html:<p style="box-sizing: border-box\; margin: 0px 0px 10px\; font-size: 14px\; line-height: 1.15\; color: rgb(170\, 170\, 170)\; background-size: cover\; background-repeat: no-repeat\; background-attachment: initial\; font-family: &quot\;Open Sans&quot\;\, sans-serif\;"><span style="box-sizing: border-box\; color: rgb(0\, 0\, 0)\;">DARPA invites you to DARPAConnect Mission Connect: Michigan\, at the Central Campus Classroom Building at University of Michigan. This is a one-day event packed with actionable guidance\, robust technical panels\, and research spotlights designed to equip innovators with key insights on how to contribute to emerging national security challenges.</span></p>\n\n<p style="box-sizing: border-box\; margin: 0px 0px 10px\; font-size: 14px\; line-height: 1.15\; color: rgb(170\, 170\, 170)\; background-size: cover\; background-repeat: no-repeat\; background-attachment: initial\; font-family: &quot\;Open Sans&quot\;\, sans-serif\;">&nbsp\;</p>\n\n<p style="box-sizing: border-box\; margin: 0px 0px 10px\; font-size: 14px\; line-height: 1.15\; color: rgb(170\, 170\, 170)\; background-size: cover\; background-repeat: no-repeat\; background-attachment: initial\; font-family: &quot\;Open Sans&quot\;\, sans-serif\;"><span style="box-sizing: border-box\; color: rgb(0\, 0\, 0)\;"><span style="box-sizing: border-box\; font-weight: 700\;"><em style="box-sizing: border-box\;">Why DARPA?</em></span></span></p>\n\n<p style="box-sizing: border-box\; margin: 0px 0px 10px\; font-size: 14px\; line-height: 1.15\; color: rgb(170\, 170\, 170)\; background-size: cover\; background-repeat: no-repeat\; background-attachment: initial\; font-family: &quot\;Open Sans&quot\;\, sans-serif\;"><span style="box-sizing: border-box\; color: rgb(0\, 0\, 0)\;">DARPA (the Defense Advanced Research Projects Agency) is the U.S. Department of War&rsquo\;s premier R&amp\;D agency\, pursuing breakthrough innovations across artificial intelligence\, biotechnology\, advanced manufacturing\, microelectronics\, autonomy\, and more.</span></p>\n\n<p style="box-sizing: border-box\; margin: 0px 0px 10px\; font-size: 14px\; line-height: 1.15\; color: rgb(170\, 170\, 170)\; background-size: cover\; background-repeat: no-repeat\; background-attachment: initial\; font-family: &quot\;Open Sans&quot\;\, sans-serif\;"><span style="box-sizing: border-box\; color: rgb(0\, 0\, 0)\;">Known for turning bold ideas into real-world capabilities\, DARPA plays a critical role in delivering advanced technology to the warfighter at speed.</span></p>\n\n<p style="box-sizing: border-box\; margin: 0px 0px 10px\; font-size: 14px\; line-height: 1.15\; color: rgb(170\, 170\, 170)\; background-size: cover\; background-repeat: no-repeat\; background-attachment: initial\; font-family: &quot\;Open Sans&quot\;\, sans-serif\;">&nbsp\;</p>\n\n<p style="box-sizing: border-box\; margin: 0px 0px 10px\; font-size: 14px\; line-height: 1.15\; color: rgb(170\, 170\, 170)\; background-size: cover\; background-repeat: no-repeat\; background-attachment: initial\; font-family: &quot\;Open Sans&quot\;\, sans-serif\;"><span style="box-sizing: border-box\; color: rgb(0\, 0\, 0)\;"><span style="box-sizing: border-box\; font-weight: 700\;"><em style="box-sizing: border-box\;">What is Mission Connect?</em></span></span></p>\n\n<p style="box-sizing: border-box\; margin: 0px 0px 10px\; font-size: 14px\; line-height: 1.15\; color: rgb(170\, 170\, 170)\; background-size: cover\; background-repeat: no-repeat\; background-attachment: initial\; font-family: &quot\;Open Sans&quot\;\, sans-serif\;"><span style="box-sizing: border-box\; color: rgb(0\, 0\, 0)\;">Mission Connect is a new DARPAConnect event format that goes beyond traditional &ldquo\;How to DARPA&rdquo\; sessions.&nbsp\;</span></p>\n\n<p style="box-sizing: border-box\; margin: 0px 0px 10px\; font-size: 14px\; line-height: 1.15\; color: rgb(170\, 170\, 170)\; background-size: cover\; background-repeat: no-repeat\; background-attachment: initial\; font-family: &quot\;Open Sans&quot\;\, sans-serif\;"><span style="box-sizing: border-box\; color: rgb(0\, 0\, 0)\;">These events are designed to:</span></p>\n\n<p style="box-sizing: border-box\; margin: 0px 0px 10px\; font-size: 14px\; line-height: 1.15\; color: rgb(170\, 170\, 170)\; background-size: cover\; background-repeat: no-repeat\; background-attachment: initial\; font-family: &quot\;Open Sans&quot\;\, sans-serif\;"><span style="box-sizing: border-box\; color: rgb(0\, 0\, 0)\;"><span style="box-sizing: border-box\; font-weight: 700\;">&nbsp\; &nbsp\; &nbsp\; &nbsp\; R</span><span style="box-sizing: border-box\; font-weight: 700\;">each:</span>&nbsp\;<em style="box-sizing: border-box\;">Make innovation accessible and connection achievable</em>.</span></p>\n\n<p style="box-sizing: border-box\; margin: 0px 0px 10px\; font-size: 14px\; line-height: 1.15\; color: rgb(170\, 170\, 170)\; background-size: cover\; background-repeat: no-repeat\; background-attachment: initial\; font-family: &quot\;Open Sans&quot\;\, sans-serif\;"><span style="box-sizing: border-box\; color: rgb(0\, 0\, 0)\;"><span style="box-sizing: border-box\; font-weight: 700\;">&nbsp\; &nbsp\; &nbsp\; &nbsp\; Disrupt:</span>&nbsp\;<em style="box-sizing: border-box\;">Redefine the possible.</em></span></p>\n\n<p style="box-sizing: border-box\; margin: 0px 0px 10px\; font-size: 14px\; line-height: 1.15\; color: rgb(170\, 170\, 170)\; background-size: cover\; background-repeat: no-repeat\; background-attachment: initial\; font-family: &quot\;Open Sans&quot\;\, sans-serif\;"><span style="box-sizing: border-box\; color: rgb(0\, 0\, 0)\;"><span style="box-sizing: border-box\; font-weight: 700\;">&nbsp\; &nbsp\; &nbsp\; &nbsp\; Propel:&nbsp\;</span><em style="box-sizing: border-box\;">Engage\, excite\, optimize.</em></span></p>\n\n<p style="box-sizing: border-box\; margin: 0px 0px 10px\; font-size: 14px\; line-height: 1.15\; color: rgb(170\, 170\, 170)\; background-size: cover\; background-repeat: no-repeat\; background-attachment: initial\; font-family: &quot\;Open Sans&quot\;\, sans-serif\;"><span style="box-sizing: border-box\; color: rgb(0\, 0\, 0)\;">You&rsquo\;ll gain a clear understanding of where DARPA is investing\, what&rsquo\;s coming next\, and how to engage.</span></p>\n\n<p style="box-sizing: border-box\; margin: 0px 0px 10px\; font-size: 14px\; line-height: 1.15\; color: rgb(170\, 170\, 170)\; background-size: cover\; background-repeat: no-repeat\; background-attachment: initial\; font-family: &quot\;Open Sans&quot\;\, sans-serif\;">&nbsp\;</p>\n\n<p style="box-sizing: border-box\; margin: 0px 0px 10px\; font-size: 14px\; line-height: 1.15\; color: rgb(170\, 170\, 170)\; background-size: cover\; background-repeat: no-repeat\; background-attachment: initial\; font-family: &quot\;Open Sans&quot\;\, sans-serif\;"><span style="box-sizing: border-box\; color: rgb(0\, 0\, 0)\;"><span style="box-sizing: border-box\; font-weight: 700\;"><em style="box-sizing: border-box\;">Event Theme: Industrial Transformation</em></span></span></p>\n\n<p style="box-sizing: border-box\; margin: 0px 0px 10px\; font-size: 14px\; line-height: 1.15\; color: rgb(170\, 170\, 170)\; background-size: cover\; background-repeat: no-repeat\; background-attachment: initial\; font-family: &quot\;Open Sans&quot\;\, sans-serif\;"><span style="box-sizing: border-box\; color: rgb(0\, 0\, 0)\;">This<span style="box-sizing: border-box\; font-weight: 700\;">&nbsp\;Mission Connect focuses on industrial transformation</span>&nbsp\;and its role in strengthening national security.</span></p>\n\n<p style="box-sizing: border-box\; margin: 0px 0px 10px\; font-size: 14px\; line-height: 1.15\; color: rgb(170\, 170\, 170)\; background-size: cover\; background-repeat: no-repeat\; background-attachment: initial\; font-family: &quot\;Open Sans&quot\;\, sans-serif\;"><span style="box-sizing: border-box\; color: rgb(0\, 0\, 0)\;">DARPA is advancing efforts to rebuild and modernize the U.S. industrial base by:</span></p>\n\n<p style="box-sizing: border-box\; margin: 0px 0px 10px\; font-size: 14px\; line-height: 1.15\; color: rgb(170\, 170\, 170)\; background-size: cover\; background-repeat: no-repeat\; background-attachment: initial\; font-family: &quot\;Open Sans&quot\;\, sans-serif\;"><span style="box-sizing: border-box\; color: rgb(0\, 0\, 0)\;">&bull\; &nbsp\;Strengthening domestic manufacturing and supply chains</span></p>\n\n<p style="box-sizing: border-box\; margin: 0px 0px 10px\; font-size: 14px\; line-height: 1.15\; color: rgb(170\, 170\, 170)\; background-size: cover\; background-repeat: no-repeat\; background-attachment: initial\; font-family: &quot\;Open Sans&quot\;\, sans-serif\;"><span style="box-sizing: border-box\; color: rgb(0\, 0\, 0)\;">&bull\; &nbsp\;Accelerating the transition of critical technologies</span></p>\n\n<p style="box-sizing: border-box\; margin: 0px 0px 10px\; font-size: 14px\; line-height: 1.15\; color: rgb(170\, 170\, 170)\; background-size: cover\; background-repeat: no-repeat\; background-attachment: initial\; font-family: &quot\;Open Sans&quot\;\, sans-serif\;"><span style="box-sizing: border-box\; color: rgb(0\, 0\, 0)\;">&bull\; &nbsp\;Delivering capability to the warfighter faster and at scale</span></p>\n\n<p style="box-sizing: border-box\; margin: 0px 0px 10px\; font-size: 14px\; line-height: 1.15\; color: rgb(170\, 170\, 170)\; background-size: cover\; background-repeat: no-repeat\; background-attachment: initial\; font-family: &quot\;Open Sans&quot\;\, sans-serif\;">&nbsp\;</p>\n\n<p style="box-sizing: border-box\; margin: 0px 0px 10px\; font-size: 14px\; line-height: 1.15\; color: rgb(170\, 170\, 170)\; background-size: cover\; background-repeat: no-repeat\; background-attachment: initial\; font-family: &quot\;Open Sans&quot\;\, sans-serif\;"><span style="box-sizing: border-box\; color: rgb(0\, 0\, 0)\;"><span style="box-sizing: border-box\; font-weight: 700\;"><em style="box-sizing: border-box\;">What to Expect:</em></span></span></p>\n\n<p style="box-sizing: border-box\; margin: 0px 0px 10px\; font-size: 14px\; line-height: 1.15\; color: rgb(170\, 170\, 170)\; background-size: cover\; background-repeat: no-repeat\; background-attachment: initial\; font-family: &quot\;Open Sans&quot\;\, sans-serif\;"><span style="box-sizing: border-box\; color: rgb(0\, 0\, 0)\;">This full-day event brings together industry\, academia\, and emerging businesses to engage directly with DARPA leadership and Program Managers. You will:</span></p>\n\n<p style="box-sizing: border-box\; margin: 0px 0px 10px\; font-size: 14px\; line-height: 1.15rem\; color: rgb(170\, 170\, 170)\; background-size: cover\; background-repeat: no-repeat\; background-attachment: initial\; font-family: &quot\;Open Sans&quot\;\, sans-serif\;"><span style="box-sizing: border-box\; color: rgb(0\, 0\, 0)\;">&bull\; &nbsp\;Explore DARPA Portfolios: Understand active research areas and future directions</span></p>\n\n<p style="box-sizing: border-box\; margin: 0px 0px 10px\; font-size: 14px\; line-height: 1.15rem\; color: rgb(170\, 170\, 170)\; background-size: cover\; background-repeat: no-repeat\; background-attachment: initial\; font-family: &quot\;Open Sans&quot\;\, sans-serif\;"><span style="box-sizing: border-box\; color: rgb(0\, 0\, 0)\;">&bull\; &nbsp\;Engage with Program Managers: Learn how to align your work with DARPA priorities</span></p>\n\n<p style="box-sizing: border-box\; margin: 0px 0px 10px\; font-size: 14px\; line-height: 1.15rem\; color: rgb(170\, 170\, 170)\; background-size: cover\; background-repeat: no-repeat\; background-attachment: initial\; font-family: &quot\;Open Sans&quot\;\, sans-serif\;"><span style="box-sizing: border-box\; color: rgb(0\, 0\, 0)\;">&bull\; &nbsp\;Identify Opportunities: See where your technology fits within mission needs</span></p>\n\n<p style="box-sizing: border-box\; margin: 0px 0px 10px\; font-size: 14px\; line-height: 1.15rem\; color: rgb(170\, 170\, 170)\; background-size: cover\; background-repeat: no-repeat\; background-attachment: initial\; font-family: &quot\;Open Sans&quot\;\, sans-serif\;"><span style="box-sizing: border-box\; color: rgb(0\, 0\, 0)\;">&bull\; &nbsp\;Experience Demos: Participate in technical discussions and see emerging capabilities</span></p>\n\n<p style="box-sizing: border-box\; margin: 0px 0px 10px\; font-size: 14px\; line-height: 1.15rem\; color: rgb(170\, 170\, 170)\; background-size: cover\; background-repeat: no-repeat\; background-attachment: initial\; font-family: &quot\;Open Sans&quot\;\, sans-serif\;"><span style="box-sizing: border-box\; color: rgb(0\, 0\, 0)\;">&bull\; &nbsp\;Build Connections: Network with DARPA and regional innovators&nbsp\;</span></p>\n\n<p style="box-sizing: border-box\; margin: 0px 0px 10px\; font-size: 14px\; line-height: 1.15\; color: rgb(170\, 170\, 170)\; background-size: cover\; background-repeat: no-repeat\; background-attachment: initial\; font-family: &quot\;Open Sans&quot\;\, sans-serif\;">&nbsp\;</p>\n\n<p style="box-sizing: border-box\; margin: 0px 0px 10px\; font-size: 14px\; line-height: 1.15\; color: rgb(170\, 170\, 170)\; background-size: cover\; background-repeat: no-repeat\; background-attachment: initial\; font-family: &quot\;Open Sans&quot\;\, sans-serif\;"><span style="box-sizing: border-box\; color: rgb(0\, 0\, 0)\;"><span style="box-sizing: border-box\; font-weight: 700\;">Program Managers will share how their portfolios align to this effort and where they are seeking new ideas and performers.</span></span></p>\n\n<p style="box-sizing: border-box\; margin: 0px 0px 10px\; font-size: 14px\; line-height: 1.15\; color: rgb(170\, 170\, 170)\; background-size: cover\; background-repeat: no-repeat\; background-attachment: initial\; font-family: &quot\;Open Sans&quot\;\, sans-serif\;">&nbsp\;</p>\n\n<p style="box-sizing: border-box\; margin: 0px 0px 10px\; font-size: 14px\; line-height: 1.15\; color: rgb(170\, 170\, 170)\; background-size: cover\; background-repeat: no-repeat\; background-attachment: initial\; font-family: &quot\;Open Sans&quot\;\, sans-serif\;"><span style="box-sizing: border-box\; color: rgb(0\, 0\, 0)\;"><span style="box-sizing: border-box\; font-weight: 700\;"><em style="box-sizing: border-box\;">What You&rsquo\;ll Gain:</em></span></span></p>\n\n<p style="box-sizing: border-box\; margin: 0px 0px 10px\; font-size: 14px\; line-height: 1.15rem\; color: rgb(170\, 170\, 170)\; background-size: cover\; background-repeat: no-repeat\; background-attachment: initial\; font-family: &quot\;Open Sans&quot\;\, sans-serif\;"><span style="box-sizing: border-box\; color: rgb(0\, 0\, 0)\;">&bull\; &nbsp\;<span style="box-sizing: border-box\; font-weight: 700\;">Practical guidance and best practices</span>&nbsp\;for navigating DARPA&rsquo\;s research environment and how to engage with the agency and Program Managers.</span></p>\n\n<p style="box-sizing: border-box\; margin: 0px 0px 10px\; font-size: 14px\; line-height: 1.15rem\; color: rgb(170\, 170\, 170)\; background-size: cover\; background-repeat: no-repeat\; background-attachment: initial\; font-family: &quot\;Open Sans&quot\;\, sans-serif\;"><span style="box-sizing: border-box\; color: rgb(0\, 0\, 0)\;">&bull\; &nbsp\;A&nbsp\;<span style="box-sizing: border-box\; font-weight: 700\;">deeper understanding of research portfolios and technical domains</span>&nbsp\;that challenge assumptions and redefine what&rsquo\;s possible.</span></p>\n\n<p style="box-sizing: border-box\; margin: 0px 0px 10px\; font-size: 14px\; line-height: 1.15rem\; color: rgb(170\, 170\, 170)\; background-size: cover\; background-repeat: no-repeat\; background-attachment: initial\; font-family: &quot\;Open Sans&quot\;\, sans-serif\;"><span style="box-sizing: border-box\; color: rgb(0\, 0\, 0)\;">&bull\; &nbsp\;An opportunity to&nbsp\;<span style="box-sizing: border-box\; font-weight: 700\;">explore emerging ideas and interest areas</span>&nbsp\;directly with Program Managers in specific research themes.</span></p>\n\n<p style="box-sizing: border-box\; margin: 0px 0px 10px\; font-size: 14px\; line-height: 1.15rem\; color: rgb(170\, 170\, 170)\; background-size: cover\; background-repeat: no-repeat\; background-attachment: initial\; font-family: &quot\;Open Sans&quot\;\, sans-serif\;"><span style="box-sizing: border-box\; color: rgb(0\, 0\, 0)\;">&bull\; &nbsp\;Robust networking with Program Managers and regional partners to build momentum and turn<span style="box-sizing: border-box\; font-weight: 700\;">&nbsp\;interest into action.</span></span></p>\n\n<p style="box-sizing: border-box\; margin: 0px 0px 10px\; font-size: 14px\; line-height: 1.15rem\; color: rgb(170\, 170\, 170)\; background-size: cover\; background-repeat: no-repeat\; background-attachment: initial\; font-family: &quot\;Open Sans&quot\;\, sans-serif\;">&nbsp\;</p>\n\n<p style="box-sizing: border-box\; margin: 0px 0px 10px\; font-size: 14px\; line-height: 1.15\; color: rgb(170\, 170\, 170)\; background-size: cover\; background-repeat: no-repeat\; background-attachment: initial\; font-family: &quot\;Open Sans&quot\;\, sans-serif\;"><span style="box-sizing: border-box\; color: rgb(0\, 0\, 0)\;"><em style="box-sizing: border-box\;">Breakfast\, lunch\, and refreshments will be provided for all in-person participants.</em></span></p>\n\n<p style="box-sizing: border-box\; margin: 0px 0px 10px\; font-size: 14px\; line-height: 1.15\; color: rgb(170\, 170\, 170)\; background-size: cover\; background-repeat: no-repeat\; background-attachment: initial\; font-family: &quot\;Open Sans&quot\;\, sans-serif\;">&nbsp\;</p>\n\n<p style="box-sizing: border-box\; margin: 0px 0px 10px\; font-size: 14px\; line-height: 1.15\; color: rgb(170\, 170\, 170)\; background-size: cover\; background-repeat: no-repeat\; background-attachment: initial\; font-family: &quot\;Open Sans&quot\;\, sans-serif\;"><span style="box-sizing: border-box\; color: rgb(0\, 0\, 0)\;">Don&rsquo\;t miss this opportunity to engage directly with DARPA and contribute to advancing industrial transformation and national security innovation.</span></p>\n\n<p style="box-sizing: border-box\; margin: 0px 0px 10px\; font-size: 14px\; line-height: 1.15\; color: rgb(170\, 170\, 170)\; background-size: cover\; background-repeat: no-repeat\; background-attachment: initial\; font-family: &quot\;Open Sans&quot\;\, sans-serif\;">&nbsp\;</p>\n\n<p style="box-sizing: border-box\; margin: 0px 0px 10px\; font-size: 14px\; line-height: 1.15\; color: rgb(170\, 170\, 170)\; background-size: cover\; background-repeat: no-repeat\; background-attachment: initial\; font-family: &quot\;Open Sans&quot\;\, sans-serif\;"><span style="box-sizing: border-box\; color: rgb(0\, 0\, 0)\;">Space is limited. Register today. We look forward to seeing you in Michigan!</span></p>\n
LOCATION:
UID:e.2606.20325
SEQUENCE:3
DTSTAMP:20260423T213641Z
URL:http://members.flintandgeneseechamber.org/events/details/darpa-connect-mission-connect-michigan-20325
END:VEVENT

END:VCALENDAR
