BEGIN:VCALENDAR
VERSION:2.0
PRODID:-//ChamberMaster//Event Calendar 2.0//EN
METHOD:PUBLISH
X-PUBLISHED-TTL:P3D
REFRESH-INTERVAL:P3D
CALSCALE:GREGORIAN
BEGIN:VEVENT
DTSTART;VALUE=DATE:20260512
DTEND;VALUE=DATE:20260515
TRANSP:TRANSPARENT
X-MICROSOFT-CDO-ALLDAYEVENT:TRUE
SUMMARY:Michigan Defense Expo (MDEX)
DESCRIPTION:A PREMIER DOD BUYER/SUPPLIER EVENT\n\n\nConnect. Learn. Lead the future of defense innovation. Experience three days of mission-focused collaboration\, breakthrough technology\, and access to decision-makers driving modernization and readiness.
X-ALT-DESC;FMTTYPE=text/html:<h4 class="elementor-heading-title elementor-size-default" style="box-sizing: border-box\; color: rgb(110\, 193\, 228)\; font-family: Roboto\, sans-serif\; font-weight: 600\; line-height: 1\; margin-block: 0.5rem 1rem\; font-size: 1.5rem\; margin: 0px\; padding: 0px\; text-align: center\; background-color: rgb(0\, 0\, 0)\;">A PREMIER DOD BUYER/SUPPLIER EVENT</h4>\n<br />\n<span style="box-sizing: border-box\; font-weight: bolder\; color: rgb(48\, 48\, 48)\; font-family: Questrial\, sans-serif\; font-size: 16px\;">Connect. Learn. Lead the future of defense innovation.</span><span style="color: rgb(48\, 48\, 48)\; font-family: Questrial\, sans-serif\; font-size: 16px\;">&nbsp\;Experience three days of mission-focused collaboration\, breakthrough technology\, and access to decision-makers driving modernization and readiness.</span><br />\n&nbsp\;
LOCATION:Huntington Place
UID:e.2606.20326
SEQUENCE:3
DTSTAMP:20260423T194850Z
URL:http://members.flintandgeneseechamber.org/events/details/michigan-defense-expo-mdex-20326
END:VEVENT

END:VCALENDAR
