BEGIN:VCALENDAR
VERSION:2.0
PRODID:-//ChamberMaster//Event Calendar 2.0//EN
METHOD:PUBLISH
X-PUBLISHED-TTL:P3D
REFRESH-INTERVAL:P3D
CALSCALE:GREGORIAN
BEGIN:VEVENT
DTSTART;VALUE=DATE:20260516
DTEND;VALUE=DATE:20260517
TRANSP:TRANSPARENT
X-MICROSOFT-CDO-ALLDAYEVENT:TRUE
SUMMARY:Spring Into Fitness 5k Run/ Walk
DESCRIPTION:Spring Into Fitness 5K Run & Walk\n\n\n\nGet ready to move\, connect\, and celebrate at our Spring Into Fitness 5K Run & Walk at beautiful Flushing County Park!\n\nHosted by the owners of Powered By Grace Gym\, this uplifting community event is all about bringing Faith into Fitness while enjoying the fresh spring air and the joy of being active together.\n\nWhether you're running for a personal best or walking with friends and family\, this event is designed for all ages and fitness levels. It's not just about the miles   it's about connection\, encouragement\, and growing stronger together in body\, mind\, and spirit.\n\n What to Expect:\n\n\n	\n	A fun and welcoming 5K run & walk through scenic park trails\n	\n	\n	An encouraging\, faith-centered atmosphere\n	\n	\n	Family-friendly fun for youth\, friends\, and neighbors\n	\n	\n	A post-run group game for everyone to enjoy\n	\n	\n	A chance to win an exciting prize!\n	\n\n\nThis is another opportunity for our community to come together\, build meaningful relationships\, and celebrate healthy living with purpose. Bring your family\, invite your friends\, and let's make it a day filled with laughter\, movement\, and inspiration.\n\nLet's spring forward in faith\, fitness\, and fellowship   together!
X-ALT-DESC;FMTTYPE=text/html:<p>Spring Into Fitness 5K Run &amp\; Walk<br />\n<br />\nGet ready to move\, connect\, and celebrate at our <strong>Spring Into Fitness 5K Run &amp\; Walk</strong> at beautiful Flushing County Park!</p>\n\n<p>Hosted by the owners of Powered By Grace Gym\, this uplifting community event is all about bringing <strong>Faith into Fitness</strong> while enjoying the fresh spring air and the joy of being active together.</p>\n\n<p>Whether you&rsquo\;re running for a personal best or walking with friends and family\, this event is designed for <strong>all ages and fitness levels</strong>. It&rsquo\;s not just about the miles &mdash\; it&rsquo\;s about connection\, encouragement\, and growing stronger together in body\, mind\, and spirit.</p>\n\n<p>&nbsp\;<strong>What to Expect:</strong></p>\n\n<ul>\n	<li>\n	<p>A fun and welcoming 5K run &amp\; walk through scenic park trails</p>\n	</li>\n	<li>\n	<p>An encouraging\, faith-centered atmosphere</p>\n	</li>\n	<li>\n	<p>Family-friendly fun for youth\, friends\, and neighbors</p>\n	</li>\n	<li>\n	<p>A post-run group game for everyone to enjoy</p>\n	</li>\n	<li>\n	<p>A chance to win an exciting prize!</p>\n	</li>\n</ul>\n\n<p>This is another opportunity for our community to come together\, build meaningful relationships\, and celebrate healthy living with purpose. Bring your family\, invite your friends\, and let&rsquo\;s make it a day filled with laughter\, movement\, and inspiration.</p>\n\n<p>Let&rsquo\;s spring forward in faith\, fitness\, and fellowship &mdash\; together!</p>\n
LOCATION:4417 N. McKinley Road\, Flushing\, MI 48433 FLUSHING COUNTY PARK
UID:e.2606.20272
SEQUENCE:3
DTSTAMP:20260422T055941Z
URL:http://members.flintandgeneseechamber.org/events/details/spring-into-fitness-5k-run-walk-20272
END:VEVENT

END:VCALENDAR
