BEGIN:VCALENDAR
VERSION:2.0
PRODID:-//ChamberMaster//Event Calendar 2.0//EN
METHOD:PUBLISH
X-PUBLISHED-TTL:P3D
REFRESH-INTERVAL:P3D
CALSCALE:GREGORIAN
BEGIN:VEVENT
DTSTART:20260516T220000Z
DTEND:20260517T000000Z
X-MICROSOFT-CDO-ALLDAYEVENT:FALSE
SUMMARY:Staff Band and Songsters Spring Concert
DESCRIPTION:Join Us for an Unforgettable (and Totally Free!) Evening of Music! \n\nSounds of Joy\n\nThe Staff Band's Spring Concert is right around the corner\, and this year we're thrilled to welcome very special guests: the Chicago Staff Band! Prepare for an inspiring night filled with powerful music\, incredible talent\, and a joyful atmosphere you won't want to miss.\n\n~ Amazing music\n\n~ Two phenomenal bands\n\n~ And   it's FREE! (space is limited)\n\nIt's the perfect event for families\, friends\, and anyone who loves great music.\n\nMark your calendar and come enjoy a delightful evening that's uplifting for the soul!
X-ALT-DESC;FMTTYPE=text/html:<p><strong>Join Us for an Unforgettable (and Totally Free!) Evening of Music!</strong>&nbsp\;</p>\n\n<p><em><span style="font-size:18px"><strong>Sounds of Joy</strong></span></em><br />\nThe&nbsp\;<strong>Staff Band&rsquo\;s Spring Concert</strong>&nbsp\;is right around the corner\, and this year we&rsquo\;re thrilled to welcome very special guests: the&nbsp\;<strong>Chicago Staff Band</strong>! Prepare for an inspiring night filled with powerful music\, incredible talent\, and a joyful atmosphere you won&rsquo\;t want to miss.</p>\n\n<p>~&nbsp\;<strong>Amazing music</strong><br />\n~&nbsp\;<strong>Two phenomenal bands</strong><br />\n~&nbsp\;<strong>And &hellip\; it&rsquo\;s FREE! (space is limited)</strong></p>\n\n<p>It&rsquo\;s the perfect event for families\, friends\, and anyone who loves great music.</p>\n\n<p>Mark your calendar and come enjoy a delightful evening that&#39\;s uplifting for the soul!</p>\n
LOCATION:The Salvation Army - Flint Citadel 211 W. Kearsley Street\, Flint MI 48502
UID:e.2606.20267
SEQUENCE:3
DTSTAMP:20260422T074158Z
URL:http://members.flintandgeneseechamber.org/events/details/staff-band-and-songsters-spring-concert-20267
END:VEVENT

END:VCALENDAR
