BEGIN:VCALENDAR
VERSION:2.0
PRODID:-//ChamberMaster//Event Calendar 2.0//EN
METHOD:PUBLISH
X-PUBLISHED-TTL:P3D
REFRESH-INTERVAL:P3D
CALSCALE:GREGORIAN
BEGIN:VEVENT
DTSTART:20260518T123000Z
DTEND:20260518T193000Z
X-MICROSOFT-CDO-ALLDAYEVENT:FALSE
SUMMARY:2026 Vocational Independence Program Swing Into Action Charity Golf Tournament
DESCRIPTION:Join us on May 18th at Sugarbush Golf Club for the annual VIP Golf Outing! A day of fun\, networking\, and community impact. This exciting event brings together local businesses\, community leaders\, and supporters for 18 holes of golf\, contests\, prizes\, and great company\, all in support of the Vocational Independence Program.\n\nProceeds from the outing directly benefit adults with disabilities by helping provide job training\, life skills development\, and employment opportunities. Your participation helps create meaningful pathways toward independence and success.\n\nWhether you're golfing or sponsoring your support makes a difference and we can't wait to see you on the course!
X-ALT-DESC;FMTTYPE=text/html:<p>Join us on May 18th at Sugarbush Golf Club for the annual VIP Golf Outing! A day of fun\, networking\, and community impact. This exciting event brings together local businesses\, community leaders\, and supporters for 18 holes of golf\, contests\, prizes\, and great company\, all in support of the Vocational Independence Program.</p>\n\n<p>Proceeds from the outing directly benefit adults with disabilities by helping provide job training\, life skills development\, and employment opportunities. Your participation helps create meaningful pathways toward independence and success.</p>\n\n<p>Whether you&#39\;re golfing or sponsoring your support makes a difference and we can&#39\;t wait to see you on the course!</p>\n
LOCATION:Sugarbush Golf Club 1 Sugarbush Dr. Davison\, MI 48423
UID:e.2606.20275
SEQUENCE:3
DTSTAMP:20260422T074210Z
URL:http://members.flintandgeneseechamber.org/events/details/vocational-independence-program-swing-into-action-charity-golf-tournament-05-18-2026-20275
END:VEVENT

END:VCALENDAR
