BEGIN:VCALENDAR
VERSION:2.0
PRODID:-//ChamberMaster//Event Calendar 2.0//EN
METHOD:PUBLISH
X-PUBLISHED-TTL:P3D
REFRESH-INTERVAL:P3D
CALSCALE:GREGORIAN
BEGIN:VEVENT
DTSTART:20130803T140000Z
DTEND:20130804T210000Z
X-MICROSOFT-CDO-ALLDAYEVENT:FALSE
SUMMARY:15th Annual Grand Blanc Art Fair
DESCRIPTION:The Grand Blanc Art Fair\, in its 15th year\, brings fine art and fine crafts to Flint & Genesee to enjoy. All media are represented including metal\, sculpture\, glass\, painting\, photography\, wood and jewelry. Art Fair hours run Saturday and Sunday from 10 a.m. to 5 p.m and will be held at Physicians Park located one block from Main Street in the heart of downtown Grand Blanc. For a detailed schedule of activities visit www.grandblancartscouncil.com.
X-ALT-DESC;FMTTYPE=text/html:The Grand Blanc Art Fair\, in its 15th year\, brings fine art and fine crafts to Flint &amp\; Genesee to enjoy. All media are represented including metal\, sculpture\, glass\, painting\, photography\, wood and jewelry. Art Fair hours run Saturday and Sunday from 10 a.m. to 5 p.m and will be held at Physicians Park located one block from Main Street in the heart of downtown Grand Blanc. For a detailed schedule of activities visit <a href="http://www.grandblancartscouncil.com/" target="_blank">www.grandblancartscouncil.com</a>.
LOCATION:Downtown Grand Blanc Physicians Park Physicians Park Grand Blanc Michigan
UID:e.2606.62
SEQUENCE:3
DTSTAMP:20260421T233828Z
URL:https://members.flintandgeneseechamber.org/events/details/15th-annual-grand-blanc-art-fair-08-03-2013-62
END:VEVENT

END:VCALENDAR
