BEGIN:VCALENDAR
VERSION:2.0
PRODID:-//ChamberMaster//Event Calendar 2.0//EN
METHOD:PUBLISH
X-PUBLISHED-TTL:P3D
REFRESH-INTERVAL:P3D
CALSCALE:GREGORIAN
BEGIN:VEVENT
DTSTART:20130912T130000Z
DTEND:20130914T210000Z
X-MICROSOFT-CDO-ALLDAYEVENT:FALSE
SUMMARY:19th Annual ''Flint Festival of Quilts''
DESCRIPTION:Marvel at the magnificent artistry of quilters from around the country. Each quilt site offers themed quilts\, demonstrations\, raffles\, quilt sales\, classes\, lectures and more. For a detailed list of themed quilt locations visit www.geneseefun.com.
X-ALT-DESC;FMTTYPE=text/html:Marvel at the magnificent artistry of quilters from around the country. Each quilt site offers themed quilts\, demonstrations\, raffles\, quilt sales\, classes\, lectures and more. For a detailed list of themed quilt locations visit <a href="http://www.geneseefun.com/" target="_blank">www.geneseefun.com</a>.
LOCATION:
UID:e.2606.116
SEQUENCE:3
DTSTAMP:20260421T220511Z
URL:https://members.flintandgeneseechamber.org/events/details/19th-annual-flint-festival-of-quilts-09-12-2013-116
END:VEVENT

END:VCALENDAR
