BEGIN:VCALENDAR
VERSION:2.0
PRODID:-//ChamberMaster//Event Calendar 2.0//EN
METHOD:PUBLISH
X-PUBLISHED-TTL:P3D
REFRESH-INTERVAL:P3D
CALSCALE:GREGORIAN
BEGIN:VEVENT
DTSTART:20130523T213000Z
DTEND:20130524T000000Z
X-MICROSOFT-CDO-ALLDAYEVENT:FALSE
SUMMARY:25th Annual Hospitality Awards
DESCRIPTION:Please join us to honor our local hospitality industry employees for exemplary service!\nRegistration is now closed. Payment will not be accepted at the door.\nRefer any questions to: Holly Carlton\, Events Manager\, 810.600.1452 or hcarlton@flintandgenesee.org
X-ALT-DESC;FMTTYPE=text/html:Please join us to honor our local hospitality industry employees for exemplary service!\n<p style="text-align: left\;" align="center">Registration is now closed. <em>Payment will not be accepted at the door.</em></p>\n<p style="text-align: left\;" align="center"><strong>Refer any questions to:</strong> Holly Carlton\, Events Manager\, 810.600.1452 or <a href="mailto:hcarlton@flintandgenesee.org">hcarlton@flintandgenesee.org</a></p>
LOCATION:Holiday Inn Gateway Centre 5353 Gateway Center Flint MI 48507
UID:e.2606.163
SEQUENCE:3
DTSTAMP:20260422T041847Z
URL:https://members.flintandgeneseechamber.org/events/details/25th-annual-hospitality-awards-05-23-2013-163
END:VEVENT

END:VCALENDAR
