BEGIN:VCALENDAR
VERSION:2.0
PRODID:-//ChamberMaster//Event Calendar 2.0//EN
METHOD:PUBLISH
X-PUBLISHED-TTL:P3D
REFRESH-INTERVAL:P3D
CALSCALE:GREGORIAN
BEGIN:VEVENT
DTSTART:20260426T153000Z
DTEND:20260426T190000Z
X-MICROSOFT-CDO-ALLDAYEVENT:FALSE
SUMMARY:26th Annual Paws on Parade Champagne Brunch and Auction
DESCRIPTION:Paws on Parade\, a special champagne brunch and auction held each spring showcasing the animals of HSGC.
X-ALT-DESC;FMTTYPE=text/html:Paws on Parade\, a special champagne brunch and auction held each spring showcasing the animals of HSGC.
LOCATION:Warwick Hills Country Club
UID:e.2606.20276
SEQUENCE:3
DTSTAMP:20260420T035509Z
URL:https://members.flintandgeneseechamber.org/events/details/26th-annual-paws-on-parade-champagne-brunch-and-auction-20276
END:VEVENT

END:VCALENDAR
