BEGIN:VCALENDAR
VERSION:2.0
PRODID:-//ChamberMaster//Event Calendar 2.0//EN
METHOD:PUBLISH
X-PUBLISHED-TTL:P3D
REFRESH-INTERVAL:P3D
CALSCALE:GREGORIAN
BEGIN:VEVENT
DTSTART:20130909T140000Z
DTEND:20130910T000000Z
X-MICROSOFT-CDO-ALLDAYEVENT:FALSE
SUMMARY:28th Annual Whaley Golf Classic
DESCRIPTION:Client Financial Services presents the 28th Whaley Golf Classic.  With celebrity hosts George Blaha & Mateen Cleaves and many more celebrity guests!\n\nSponsorships and teams available!\n\nSeptember 9\, 2013\n\nWarwick Hilss Golf & Country Club.  Grand Blanc\, MI\n\nPrizes for 1st - 5th place!\n\nRegistration is 10:00 am\n\nShotgun start is noon\n\nCocktails start at 6:00 pm\n\nContact:  Deandra@whaleychildren.org  (810) 600-0100\n\nfacebook.com/WhaleyGolfClassic
X-ALT-DESC;FMTTYPE=text/html:Client Financial Services presents the 28th Whaley Golf Classic.  With celebrity hosts George Blaha &amp\; Mateen Cleaves and many more celebrity guests!\n\nSponsorships and teams available!\n\nSeptember 9\, 2013\n\nWarwick Hilss Golf &amp\; Country Club.  Grand Blanc\, MI\n\nPrizes for 1st - 5th place!\n\nRegistration is 10:00 am\n\nShotgun start is noon\n\nCocktails start at 6:00 pm\n\nContact:  <a href="mailto:Deandra@whaleychildren.org">Deandra@whaleychildren.org</a>  (810) 600-0100\n\n<a href="http://www.facebook.com/WhaleyGolfClassic">facebook.com/WhaleyGolfClassic</a>\n\n&nbsp\;
LOCATION:Warwick Hills Golf and Country Club and the Flint Golf Club G-9057 S Saginaw Rd. Grand Blanc MI 48439
UID:e.2606.436
SEQUENCE:3
DTSTAMP:20260421T214648Z
URL:https://members.flintandgeneseechamber.org/events/details/28th-annual-whaley-golf-classic-09-09-2013-436
END:VEVENT

END:VCALENDAR
