BEGIN:VCALENDAR
VERSION:2.0
PRODID:-//ChamberMaster//Event Calendar 2.0//EN
METHOD:PUBLISH
X-PUBLISHED-TTL:P3D
REFRESH-INTERVAL:P3D
CALSCALE:GREGORIAN
BEGIN:VEVENT
DTSTART:20131109T200000Z
DTEND:20131110T020000Z
X-MICROSOFT-CDO-ALLDAYEVENT:FALSE
SUMMARY:2nd Annual ''Michigan Food\, Beer & Wine Fest'' at Perani Arena & Event Center
DESCRIPTION:Be part of this 2nd annual event featuring more than 100 various Michigan beers and wines. There will also be premiere area food vendors along with seminars and demonstrations\, a free photo booth\, strolling magicians\, live music in an indoor park like setting and more. Tickets are available in advance or at the door and include a commemorative glass as well as five beer or wine sample tickets. Additional sample tickets will be sold for just $1.00. Tickets are $15.00 in advance or $20.00 at the door. For details visit www.mifoodbeerwine.com.
X-ALT-DESC;FMTTYPE=text/html:Be part of this 2nd annual event featuring more than 100 various Michigan beers and wines. There will also be premiere area food vendors along with seminars and demonstrations\, a free photo booth\, strolling magicians\, live music in an indoor park like setting and more. Tickets are available in advance or at the door and include a commemorative glass as well as five beer or wine sample tickets. Additional sample tickets will be sold for just $1.00. Tickets are $15.00 in advance or $20.00 at the door. For details visit <a title="Michigan Food\, Beer and Wine Fest" href="http://wcrz.com/events-flint/michigan-food-beer-and-wine-fest-2/09-november-2013-perani-arena-2/" target="_blank">www.mifoodbeerwine.com</a>.\n\n&nbsp\;
LOCATION:Perani Arena & Event Center 3501 Lapeer Road Flint Michigan
UID:e.2606.582
SEQUENCE:3
DTSTAMP:20260421T190810Z
URL:https://members.flintandgeneseechamber.org/events/details/2nd-annual-michigan-food-beer-wine-fest-at-perani-arena-event-center-11-09-2013-582
END:VEVENT

END:VCALENDAR
