BEGIN:VCALENDAR
VERSION:2.0
PRODID:-//ChamberMaster//Event Calendar 2.0//EN
METHOD:PUBLISH
X-PUBLISHED-TTL:P3D
REFRESH-INTERVAL:P3D
CALSCALE:GREGORIAN
BEGIN:VEVENT
DTSTART:20130713T220000Z
DTEND:20130714T033000Z
X-MICROSOFT-CDO-ALLDAYEVENT:FALSE
SUMMARY:3rd Annual Buckham Alley Festival
DESCRIPTION:Enjoy live music by 10 bands on two stages along with dancing\, steel drums\, artisans\, street performers\, arts & crafts and more. For a detailed schedule of activities visit www.buckhamalleyfest.com.
X-ALT-DESC;FMTTYPE=text/html:Enjoy live music by 10 bands on two stages along with dancing\, steel drums\, artisans\, street performers\, arts &amp\; crafts and more. For a detailed schedule of activities visit <a title="Buckham Alley Festival " href="http://www.buckhamalleyfest.com" target="_blank">www.buckhamalleyfest.com</a>.\n\n&nbsp\;\n\n&nbsp\;
LOCATION:Buckham Alley Buckham Alley Flint Michigan
UID:e.2606.110
SEQUENCE:3
DTSTAMP:20260422T005750Z
URL:https://members.flintandgeneseechamber.org/events/details/3rd-annual-buckham-alley-festival-07-13-2013-110
END:VEVENT

END:VCALENDAR
