BEGIN:VCALENDAR
VERSION:2.0
PRODID:-//ChamberMaster//Event Calendar 2.0//EN
METHOD:PUBLISH
X-PUBLISHED-TTL:P3D
REFRESH-INTERVAL:P3D
CALSCALE:GREGORIAN
BEGIN:VEVENT
DTSTART:20130713T150000Z
DTEND:20130713T200000Z
X-MICROSOFT-CDO-ALLDAYEVENT:FALSE
SUMMARY:3rd Annual ''Fenton Artwalk''
DESCRIPTION:Fenton Artwalk is a community event celebrating the arts and showcasing local and regional artists. Artists will display their work inside participating businesses. Visitors will get the opportunity to view and shop for artwork. Join all for this FREE family friendly event that embraces the art along with music. For a detailed schedule of activities visit www.fentonbecloser.com.
X-ALT-DESC;FMTTYPE=text/html:Fenton Artwalk is a community event celebrating the arts and showcasing local and regional artists. Artists will display their work inside participating businesses. Visitors will get the opportunity to view and shop for artwork. Join all for this FREE family friendly event that embraces the art along with music. For a detailed schedule of activities visit <a title="Fenton Artwalk" href="http://www.fentonbecloser.com/" target="_blank">www.fentonbecloser.com</a>.
LOCATION:Downtown Fenton at Leroy Street Leroy Street Fenton Michigan
UID:e.2606.44
SEQUENCE:3
DTSTAMP:20260422T004719Z
URL:https://members.flintandgeneseechamber.org/events/details/3rd-annual-fenton-artwalk-07-13-2013-44
END:VEVENT

END:VCALENDAR
