BEGIN:VCALENDAR
VERSION:2.0
PRODID:-//ChamberMaster//Event Calendar 2.0//EN
METHOD:PUBLISH
X-PUBLISHED-TTL:P3D
REFRESH-INTERVAL:P3D
CALSCALE:GREGORIAN
BEGIN:VEVENT
DTSTART:20131019T160000Z
DTEND:20131020T010000Z
X-MICROSOFT-CDO-ALLDAYEVENT:FALSE
SUMMARY:3rd Annual ''Flint Horror Convention'' at Flint's Masonic Temple
DESCRIPTION:Get spooked out with three floors of horror vendors\, movies\,  costume contests\, scary fun\, entertainment and lots more. Special celebrity guests include: John Amplas - Martin\; Mike Mundy - Walking Dead\; Tom Sullivan - Evil Dead\; Jasmine Lassiter - Oz\, The Great and Powerful\; John E.L. Tenney - Paranormal Lecturer\; Lucifer Fulci - Musician/Writer\; William McHugh - Screamer\, The Art of Terror and Director\; and Horror Guest - Son of Goul. For a detailed schedule of activities visit www.flinthorrorcon.com.
X-ALT-DESC;FMTTYPE=text/html:Get spooked out with three floors of horror vendors\, movies\,  costume contests\, scary fun\, entertainment and lots more. Special celebrity guests include: John Amplas - Martin\; Mike Mundy - Walking Dead\; Tom Sullivan - Evil Dead\; Jasmine Lassiter - Oz\, The Great and Powerful\; John E.L. Tenney - Paranormal Lecturer\; Lucifer Fulci - Musician/Writer\; William McHugh - Screamer\, The Art of Terror and Director\; and Horror Guest - Son of Goul. For a detailed schedule of activities visit <a title="Flint Horror Convention" href="http://flinthorrorcon.webnode.com/?m=d" target="_blank">www.flinthorrorcon.com</a>.
LOCATION:The Masonic Temple in Downtown Flint 755 S. Saginaw Street Flint Michigan
UID:e.2606.493
SEQUENCE:3
DTSTAMP:20260421T202849Z
URL:https://members.flintandgeneseechamber.org/events/details/3rd-annual-flint-horror-convention-at-flint-s-masonic-temple-10-19-2013-493
END:VEVENT

END:VCALENDAR
