BEGIN:VCALENDAR
VERSION:2.0
PRODID:-//ChamberMaster//Event Calendar 2.0//EN
METHOD:PUBLISH
X-PUBLISHED-TTL:P3D
REFRESH-INTERVAL:P3D
CALSCALE:GREGORIAN
BEGIN:VEVENT
DTSTART:20130608T140000Z
DTEND:20130608T190000Z
X-MICROSOFT-CDO-ALLDAYEVENT:FALSE
SUMMARY:3rd Annual ''Mother Goose Hayride'' at For-Mar Nature Preserve
DESCRIPTION:Travel the trails of For-Mar by hayride\, or on foot\, and visit with your favorite Mother Goose rhyme and storybook characters. Hayrides depart hourly starting at 10 a.m. Event is recommended for families of all ages. For details and a schedule of upcoming For-Mar events visit www.geneseecountyparks.org.
X-ALT-DESC;FMTTYPE=text/html:Travel the trails of For-Mar by hayride\, or on foot\, and visit with your favorite Mother Goose rhyme and storybook characters. Hayrides depart hourly starting at 10 a.m. Event is recommended for families of all ages. For details and a schedule of upcoming For-Mar events visit <a href="http://geneseecountyparks.org/pages/formar" target="_blank">www.geneseecountyparks.org</a>.\n\n&nbsp\;
LOCATION:
UID:e.2606.189
SEQUENCE:3
DTSTAMP:20260422T023817Z
URL:https://members.flintandgeneseechamber.org/events/details/3rd-annual-mother-goose-hayride-at-for-mar-nature-preserve-06-08-2013-189
END:VEVENT

END:VCALENDAR
