BEGIN:VCALENDAR
VERSION:2.0
PRODID:-//ChamberMaster//Event Calendar 2.0//EN
METHOD:PUBLISH
X-PUBLISHED-TTL:P3D
REFRESH-INTERVAL:P3D
CALSCALE:GREGORIAN
BEGIN:VEVENT
DTSTART:20140514T213000Z
DTEND:20140515T003000Z
X-MICROSOFT-CDO-ALLDAYEVENT:FALSE
SUMMARY:3rd Annual Student Documentary Showcase
DESCRIPTION:Once again film students at Mott Community College will share their work with the public. The films are short documentaries directed and filmed by students as part of their class work. Films showing: "No Regrets" - Father and son legends Arnold and Arnie Wells overcome the odds in the timeless port of boxing\; "Diamond in the Rough" - take an inside look at Flint's rock-n-roll venue\, The Machine Shop\; "Change" - explore equal rights in America\; "Taste of Flint" - fast growing\, urban restaurant scene in Flint\; "A Home Away From Home" - reinventing the modern day shelter\, Adopt A Pet of Fenton\; "Downloaded" - see how Americans are breaking the law daily\; "Death of the Machine" - hopes of fueling economic revival\; "Inside the Colored Pages" - obsessions with the comic book culture is examined and "Dingo the Powerful" - follow the life of Charles "Ding o"\, an MMA fighting champion.
X-ALT-DESC;FMTTYPE=text/html:Once again film students at Mott Community College will share their work with the public. The films are short documentaries directed and filmed by students as part of their class work. Films showing: "No Regrets" - Father and son legends Arnold and Arnie Wells overcome the odds in the timeless port of boxing\; "Diamond in the Rough" - take an inside look at Flint's rock-n-roll venue\, The Machine Shop\; "Change" - explore equal rights in America\; "Taste of Flint" - fast growing\, urban restaurant scene in Flint\; "A Home Away From Home" - reinventing the modern day shelter\, Adopt A Pet of Fenton\; "Downloaded" - see how Americans are breaking the law daily\; "Death of the Machine" - hopes of fueling economic revival\; "Inside the Colored Pages" - obsessions with the comic book culture is examined and "Dingo the Powerful" - follow the life of Charles "Ding o"\, an MMA fighting champion.
LOCATION:Mott Community College Regional Technology Center 1401 E. Court Street Flint Michigan 48503
UID:e.2606.1019
SEQUENCE:3
DTSTAMP:20260421T101226Z
URL:https://members.flintandgeneseechamber.org/events/details/3rd-annual-student-documentary-showcase-05-14-2014-1019
END:VEVENT

END:VCALENDAR
