BEGIN:VCALENDAR
VERSION:2.0
PRODID:-//ChamberMaster//Event Calendar 2.0//EN
METHOD:PUBLISH
X-PUBLISHED-TTL:P3D
REFRESH-INTERVAL:P3D
CALSCALE:GREGORIAN
BEGIN:VEVENT
DTSTART:20140212T140000Z
DTEND:20140212T150000Z
X-MICROSOFT-CDO-ALLDAYEVENT:FALSE
SUMMARY:4 Steps to Success in Government Contracting
DESCRIPTION:Interested in diversifying your business in Government Contracting?\n\nHave you started the process but what's next?\n\nWant to win more contracts?\n\nThen plan on attending this PTAC seminar focusing on what is required in order to be a vendor\, how to set your company a notch above your competition\, and how to achieve the greatest amount of success in the government marketplace.\n\nRSVP is required. For more information and to register\, please contact Chelsea Schutz at: 810-600-1437 or ptac@flintandgenesee.org
X-ALT-DESC;FMTTYPE=text/html:Interested in diversifying your business in Government Contracting?\n\nHave you started the process but what's next?\n\nWant to win more contracts?\n\nThen plan on attending this PTAC seminar focusing on what is required in order to be a vendor\, how to set your company a notch above your competition\, and how to achieve the greatest amount of success in the government marketplace.\n\nRSVP is required. For more information and to register\, please contact Chelsea Schutz at: 810-600-1437 or ptac@flintandgenesee.org\n\n&nbsp\;
LOCATION:Flint & Genesee Chamber of Commerce 519 S. Saginaw St. Flint MI 48502
UID:e.2606.827
SEQUENCE:3
DTSTAMP:20260421T142736Z
URL:https://members.flintandgeneseechamber.org/events/details/4-steps-to-success-in-government-contracting-02-12-2014-827
END:VEVENT

END:VCALENDAR
