BEGIN:VCALENDAR
VERSION:2.0
PRODID:-//ChamberMaster//Event Calendar 2.0//EN
METHOD:PUBLISH
X-PUBLISHED-TTL:P3D
REFRESH-INTERVAL:P3D
CALSCALE:GREGORIAN
BEGIN:VEVENT
DTSTART;VALUE=DATE:20130815
DTEND;VALUE=DATE:20130819
TRANSP:TRANSPARENT
X-MICROSOFT-CDO-ALLDAYEVENT:TRUE
SUMMARY:42nd Annual ''Montrose Blueberry Festival''
DESCRIPTION:Family fun all weekend featuring two parades\, a car & motorcycle show\, yard sales\, a flea market\, movie night\, entertainment tent\, pie & baked goods sale\, 5K & 8K runs and lots more. For a detailed schedule of activities visit www.montroseblueberryfestival.net.
X-ALT-DESC;FMTTYPE=text/html:Family fun all weekend featuring two parades\, a car &amp\; motorcycle show\, yard sales\, a flea market\, movie night\, entertainment tent\, pie &amp\; baked goods sale\, 5K &amp\; 8K runs and lots more. For a detailed schedule of activities visit <a title="Montrose Blueberry Festival" href="http://montroseblueberryfestival.net/schedule.htm" target="_blank">www.montroseblueberryfestival.net</a>.\n\n&nbsp\;\n\n&nbsp\;\n\n&nbsp\;
LOCATION:
UID:e.2606.70
SEQUENCE:3
DTSTAMP:20260421T234429Z
URL:https://members.flintandgeneseechamber.org/events/details/42nd-annual-montrose-blueberry-festival-08-15-2013-70
END:VEVENT

END:VCALENDAR
