BEGIN:VCALENDAR
VERSION:2.0
PRODID:-//ChamberMaster//Event Calendar 2.0//EN
METHOD:PUBLISH
X-PUBLISHED-TTL:P3D
REFRESH-INTERVAL:P3D
CALSCALE:GREGORIAN
BEGIN:VEVENT
DTSTART:20131109T170000Z
DTEND:20131109T210000Z
X-MICROSOFT-CDO-ALLDAYEVENT:FALSE
SUMMARY:5th Annual Old Newsboys Fund Raiser Event - Tropical Smoothie Santa Beach Party
DESCRIPTION:Tropical Smoothie Café-Flint is hosting the 5th Annual Santa Beach Party on November 9\, 2013 from 12pm-4pm.  The event is a fundraiser to raise money for Old Newsboys\, so that “NO CHILD IS FORGOTTEN” this holiday season.  For more information on this wonderful organization and what it does for the children of the Flint & Genesee County communities\, please visit www.onbflint.org.\n\nAls0 - eat at Tropical Smoothie Café (Flint & Fenton Locations) anytime on Nov. 9th and 20% of sales will be donated to Old Newsboys!\n\nEvery $20 donation will be used to sponsor 1 child in the Holiday Box Program. Each child receives in their gift package the following items:\n\n\n\n\n	1 Sweat Suit\n	2 Pair of Socks\n	2 Pair of Underwear\n	1 Knit Hat\n	1 Pair of Gloves or Mittens\n	Toothbrush\, Dental Floss & Toothpaste\n	An Age-appropriate Toy or Gift\n	Additional Small Gift Items (including\n	Coloring Book\, Crayons\, Hair Ties\, Rattle\, etc.)\n\n\nDonations can be sent to:\n\nTropical Smoothie Café-Flint\nAttn: Old Newsboys Fundraiser\n2103 S Linden Road\nFlint\, MI 48532\nPayable to: Old Newsboys\n\nTropical Smoothie Cafe is also looking for donated items that can be used in their silent auction.  Gift cards\, electronics\, gift baskets\, sporting event tickets\, concert tickets\, hotel packages\, etc....anything of value.  Please drop off silent auction items at Tropical Smoothie Café-Flint or contact owner Harold Bowen at (810) 252-7568.
X-ALT-DESC;FMTTYPE=text/html:<div>\n\nTropical Smoothie Café-Flint is hosting the<strong> 5<sup>th</sup> Annual Santa Beach Party on November 9\, 2013 from 12pm-4pm</strong>.  The event is a fundraiser to raise money for <strong>Old Newsboys</strong>\, so that “<strong>NO CHILD IS FORGOTTEN</strong>” this holiday season.  For more information on this wonderful organization and what it does for the children of the Flint &amp\; Genesee County communities\, please visit <a href="http://www.onbflint.org" target="_blank">www.onbflint.org</a>.\n\n<strong>Als0 - eat at Tropical Smoothie Café (Flint &amp\; Fenton Locations) anytime on Nov. 9th and 20% of sales will be donated to Old Newsboys!</strong>\n\nEvery $20 donation will be used to sponsor 1 child in the Holiday Box Program. Each child receives in their gift package the following items:\n\n</div>\n<div>\n<ul>\n	<li>1 Sweat Suit</li>\n	<li>2 Pair of Socks</li>\n	<li>2 Pair of Underwear</li>\n	<li>1 Knit Hat</li>\n	<li>1 Pair of Gloves or Mittens</li>\n	<li>Toothbrush\, Dental Floss &amp\; Toothpaste</li>\n	<li>An Age-appropriate Toy or Gift</li>\n	<li>Additional Small Gift Items (including</li>\n	<li>Coloring Book\, Crayons\, Hair Ties\, Rattle\, etc.)</li>\n</ul>\n</div>\n<strong>Donations can be sent to:</strong>\n\nTropical Smoothie Café-Flint\nAttn: Old Newsboys Fundraiser\n2103 S Linden Road\nFlint\, MI 48532\nPayable to: Old Newsboys\n\nTropical Smoothie Cafe is also looking for donated items that can be used in their silent auction.  Gift cards\, electronics\, gift baskets\, sporting event tickets\, concert tickets\, hotel packages\, etc....anything of value.  Please drop off silent auction items at Tropical Smoothie Café-Flint or contact owner Harold Bowen at (810) 252-7568.\n\n&nbsp\;
LOCATION:Tropical Smoothie Cafe 2103 S. Linden Rd. Flint MI 48532
UID:e.2606.576
SEQUENCE:3
DTSTAMP:20260421T190648Z
URL:https://members.flintandgeneseechamber.org/events/details/5th-annual-old-newsboys-fund-raiser-event-tropical-smoothie-santa-beach-party-11-09-2013-576
END:VEVENT

END:VCALENDAR
