BEGIN:VCALENDAR
VERSION:2.0
PRODID:-//ChamberMaster//Event Calendar 2.0//EN
METHOD:PUBLISH
X-PUBLISHED-TTL:P3D
REFRESH-INTERVAL:P3D
CALSCALE:GREGORIAN
BEGIN:VEVENT
DTSTART:20140109T030000Z
DTEND:20140109T040000Z
X-MICROSOFT-CDO-ALLDAYEVENT:FALSE
SUMMARY:6 Nations\, Italy VS Ireland
DESCRIPTION:
X-ALT-DESC;FMTTYPE=text/html:
LOCATION:Taaffes Bar 19 Shop Street Galway Galway
UID:e.2606.3
SEQUENCE:3
DTSTAMP:20260421T160110Z
URL:https://members.flintandgeneseechamber.org/events/details/6-nations-italy-vs-ireland-01-08-2014-3
END:VEVENT

END:VCALENDAR
