BEGIN:VCALENDAR
VERSION:2.0
PRODID:-//ChamberMaster//Event Calendar 2.0//EN
METHOD:PUBLISH
X-PUBLISHED-TTL:P3D
REFRESH-INTERVAL:P3D
CALSCALE:GREGORIAN
BEGIN:VEVENT
DTSTART;VALUE=DATE:20130813
DTEND;VALUE=DATE:20130818
TRANSP:TRANSPARENT
X-MICROSOFT-CDO-ALLDAYEVENT:TRUE
SUMMARY:9th Annual ''Back to the Bricks'' Cruise and Car Show
DESCRIPTION:Be part of one of the biggest car events featuring a rolling cruise\, kick-off party\, live entertainment\, automotive displays\, vendors\, food\, antique fire trucks and dragster exhibits\, contests\, a Women's Marketplace and a Saturday car show that will amaze all with over 30\,000 participants and 300\,000 spectators. For a detailed schedule of activities visit www.backtothebricks.org.
X-ALT-DESC;FMTTYPE=text/html:Be part of one of the biggest car events featuring a rolling cruise\, kick-off party\, live entertainment\, automotive displays\, vendors\, food\, antique fire trucks and dragster exhibits\, contests\, a Women's Marketplace and a Saturday car show that will amaze all with over 30\,000 participants and 300\,000 spectators. For a detailed schedule of activities visit <a href="http://www.backtothebricks.org/" target="_blank">www.backtothebricks.org</a>.
LOCATION:
UID:e.2606.114
SEQUENCE:3
DTSTAMP:20260421T233958Z
URL:https://members.flintandgeneseechamber.org/events/details/9th-annual-back-to-the-bricks-cruise-and-car-show-08-13-2013-114
END:VEVENT

END:VCALENDAR
