BEGIN:VCALENDAR
VERSION:2.0
PRODID:-//ChamberMaster//Event Calendar 2.0//EN
METHOD:PUBLISH
X-PUBLISHED-TTL:P3D
REFRESH-INTERVAL:P3D
CALSCALE:GREGORIAN
BEGIN:VEVENT
DTSTART:20251011T160000Z
DTEND:20251011T190000Z
X-MICROSOFT-CDO-ALLDAYEVENT:FALSE
SUMMARY:A Taste of Culture Community Celebration
DESCRIPTION:Where can you find delicious food\, vibrant culture\, art\, dance\, and a true celebration of community and unity? At A Taste of Culture!!\n\n\n\nWe are excited to bring this incredible event back to Flint\, and it is absolutely FREE for our community! Interested in representing a country? We would love to have you join us! Sign up here: https://forms.office.com/r/Hrv74DJbpS\n\n\n\nHere are the details!\n\nDate: Saturday\, October 11\, 2025\n\nTime: 12:00 PM   3:00 PM\n\nLocation: 1110 W. Bristol Rd.\, Flint\, MI 48507\n\n\n\nLet us know you are coming by registering for free here: tinyurl.com/CFITOC2025\n\n#TasteOfCulture #CFI #communitiesfirstinc #FlintEvents
X-ALT-DESC;FMTTYPE=text/html:Where can you find delicious food\, vibrant culture\, art\, dance\, and a true celebration of community and unity? At A Taste of Culture!!<br />\n<br />\nWe are excited to bring this incredible event back to Flint\, and it is absolutely FREE for our community! Interested in representing a country? We would love to have you join us! Sign up here:&nbsp\;<a href="https://forms.office.com/r/Hrv74DJbpS?fbclid=IwZXh0bgNhZW0CMTAAYnJpZBExaEZjVVJHeUo5Ykk5QlZycgEevIbz8e3NiHRAKgqYNofeOpbm_rixAwNd84NlKEvqyWid_zEYOe-EycLjbCA_aem_sr9uR7PbG6vvMDMfbWXz2Q" target="_blank"><strong>https://forms.office.com/r/Hrv74DJbpS</strong></a><br />\n<br />\nHere are the details!<br />\nDate: Saturday\, October 11\, 2025<br />\nTime: 12:00 PM &ndash\; 3:00 PM<br />\nLocation: 1110 W. Bristol Rd.\, Flint\, MI 48507<br />\n<br />\nLet us know you are coming by registering for free here:&nbsp\;<a href="https://tinyurl.com/CFITOC2025?fbclid=IwZXh0bgNhZW0CMTAAYnJpZBExaEZjVVJHeUo5Ykk5QlZycgEejEvqK_3fJM2rRP6dbqT1Dy1vf-VeV6stgm56av6vz6uPxsgQQhmv0hEDktY_aem_ndpNZ79FSL0gqattE4G8QQ" target="_blank"><strong>tinyurl.com/CFITOC2025</strong></a><br />\n<a href="https://www.facebook.com/hashtag/tasteofculture?__eep__=6&amp\;__cft__%5b0%5d=AZV71Vc-3eZ4ESYwgba8OL42KpzYIn-nV0uoLKCSudj8R2tNSmdPo32W8Y8izDi4BN_mRMUUizCbeRW7OgxPZeOhC73lS_AiiFx3lUU35-vk1OpMObVJc_AE-G8Dr_QbVpBGfSVYRp7oVzS10tlzV7gc&amp\;__tn__=q"><strong>#TasteOfCulture</strong></a>&nbsp\;<a href="https://www.facebook.com/hashtag/cfi?__eep__=6&amp\;__cft__%5b0%5d=AZV71Vc-3eZ4ESYwgba8OL42KpzYIn-nV0uoLKCSudj8R2tNSmdPo32W8Y8izDi4BN_mRMUUizCbeRW7OgxPZeOhC73lS_AiiFx3lUU35-vk1OpMObVJc_AE-G8Dr_QbVpBGfSVYRp7oVzS10tlzV7gc&amp\;__tn__=q"><strong>#CFI</strong></a>&nbsp\;<a href="https://www.facebook.com/hashtag/communitiesfirstinc?__eep__=6&amp\;__cft__%5b0%5d=AZV71Vc-3eZ4ESYwgba8OL42KpzYIn-nV0uoLKCSudj8R2tNSmdPo32W8Y8izDi4BN_mRMUUizCbeRW7OgxPZeOhC73lS_AiiFx3lUU35-vk1OpMObVJc_AE-G8Dr_QbVpBGfSVYRp7oVzS10tlzV7gc&amp\;__tn__=q"><strong>#communitiesfirstinc</strong></a>&nbsp\;<a href="https://www.facebook.com/hashtag/flintevents?__eep__=6&amp\;__cft__%5b0%5d=AZV71Vc-3eZ4ESYwgba8OL42KpzYIn-nV0uoLKCSudj8R2tNSmdPo32W8Y8izDi4BN_mRMUUizCbeRW7OgxPZeOhC73lS_AiiFx3lUU35-vk1OpMObVJc_AE-G8Dr_QbVpBGfSVYRp7oVzS10tlzV7gc&amp\;__tn__=q"><strong>#FlintEvents</strong></a>&nbsp\;
LOCATION:CFI Center\, 1110 W. Bristol Road\, Flint\, MI 48507 (in the former Baker College campus)
UID:e.2606.20107
SEQUENCE:3
DTSTAMP:20260421T223933Z
URL:https://members.flintandgeneseechamber.org/events/details/a-taste-of-culture-community-celebration-20107
END:VEVENT

END:VCALENDAR
