BEGIN:VCALENDAR
VERSION:2.0
PRODID:-//ChamberMaster//Event Calendar 2.0//EN
METHOD:PUBLISH
X-PUBLISHED-TTL:P3D
REFRESH-INTERVAL:P3D
CALSCALE:GREGORIAN
BEGIN:VEVENT
DTSTART:20140328T153000Z
DTEND:20140328T173000Z
X-MICROSOFT-CDO-ALLDAYEVENT:FALSE
SUMMARY:AAAC Lunch & Learn Seminar
DESCRIPTION:The African American Advisory Committee welcomes Dale Tuttle\, Director of the Michigan Center for Entrepreneurial Leadership\, for their March Lunch & Learn Seminar.\nMr. Tuttle will present: Frameworks and Tools for Successful Leadership and Strategic Management.  This seminar will describe useful characteristics and approaches to leading an organization and discuss the importance of linking positive leadership behaviors with active strategic management.  Frameworks and tools used in the strategic management process will be introduced.\n\nCost at the door is $10 (includes a boxed lunch).
X-ALT-DESC;FMTTYPE=text/html:The African American Advisory Committee welcomes Dale Tuttle\, Director of the Michigan Center for Entrepreneurial Leadership\, for their March Lunch &amp\; Learn Seminar.\n<div>Mr. Tuttle will present: Frameworks and Tools for Successful Leadership and Strategic Management.  This seminar will describe useful characteristics and approaches to leading an organization and discuss the importance of linking positive leadership behaviors with active strategic management.  Frameworks and tools used in the strategic management process will be introduced.</div>\n<div></div>\n<div>Cost at the door is $10 (includes a boxed lunch).</div>\n<div></div>\n<div></div>
LOCATION:Riverfront Student Center University of Michigan-Flint Business School 1 Riverfront Center West Flint MI 48502
UID:e.2606.825
SEQUENCE:3
DTSTAMP:20260421T124558Z
URL:https://members.flintandgeneseechamber.org/events/details/aaac-lunch-learn-seminar-03-28-2014-825
END:VEVENT

END:VCALENDAR
