BEGIN:VCALENDAR
VERSION:2.0
PRODID:-//ChamberMaster//Event Calendar 2.0//EN
METHOD:PUBLISH
X-PUBLISHED-TTL:P3D
REFRESH-INTERVAL:P3D
CALSCALE:GREGORIAN
BEGIN:VEVENT
DTSTART:20131008T213000Z
DTEND:20131008T233000Z
X-MICROSOFT-CDO-ALLDAYEVENT:FALSE
SUMMARY:AAAC Meeting - FGCC CANCELED
DESCRIPTION:AAAC Meeting\n\nDate:  Tuesday\, October 8\n\nTime: 5:30 pm\n\nPlace:  Flint &  Genesee Chamber of Commerce
X-ALT-DESC;FMTTYPE=text/html:AAAC Meeting\n\nDate:  Tuesday\, October 8\n\nTime: 5:30 pm\n\nPlace:  Flint &amp\;  Genesee Chamber of Commerce
LOCATION:Flint & Genesee Chamber of Commerce 519 S. Saginaw St Flint Michigan 48502
UID:e.2606.557
SEQUENCE:3
DTSTAMP:20260421T202722Z
URL:https://members.flintandgeneseechamber.org/events/details/aaac-meeting-fgcc-canceled-10-08-2013-557
END:VEVENT

END:VCALENDAR
