BEGIN:VCALENDAR
VERSION:2.0
PRODID:-//ChamberMaster//Event Calendar 2.0//EN
METHOD:PUBLISH
X-PUBLISHED-TTL:P3D
REFRESH-INTERVAL:P3D
CALSCALE:GREGORIAN
BEGIN:VEVENT
DTSTART:20140521T203000Z
DTEND:20140521T223000Z
X-MICROSOFT-CDO-ALLDAYEVENT:FALSE
SUMMARY:AAF-Greater Flint\, Membership Beer-B-Que
DESCRIPTION:AAF Greater Flint is the area's go-to organization for advertising and marketing know-how.\n\nJoin the group and learn more on how to effectively market your business.\n\nThis free event will allow you to explore membership possibilities\, learn more about upcoming educational\n\nopportunities and events.\n\nRain or Shine\n\nLive music\n\nBBQ\n\nBeer and Pop\n\nRSVP: aafgreaterflint.com
X-ALT-DESC;FMTTYPE=text/html:AAF Greater Flint is the area's go-to organization for advertising and marketing know-how.\n\nJoin the group and learn more on how to effectively market your business.\n\nThis free event will allow you to explore membership possibilities\, learn more about upcoming educational\n\nopportunities and events.\n\nRain or Shine\n\nLive music\n\nBBQ\n\nBeer and Pop\n\nRSVP: aafgreaterflint.com
LOCATION:McLaren Hospitality House 3170 Beecher Road Flint MI 48532
UID:e.2606.1003
SEQUENCE:3
DTSTAMP:20260421T101535Z
URL:https://members.flintandgeneseechamber.org/events/details/aaf-greater-flint-membership-beer-b-que-05-21-2014-1003
END:VEVENT

END:VCALENDAR
