BEGIN:VCALENDAR
VERSION:2.0
PRODID:-//ChamberMaster//Event Calendar 2.0//EN
METHOD:PUBLISH
X-PUBLISHED-TTL:P3D
REFRESH-INTERVAL:P3D
CALSCALE:GREGORIAN
BEGIN:VEVENT
DTSTART:20140619T123000Z
DTEND:20140619T160000Z
X-MICROSOFT-CDO-ALLDAYEVENT:FALSE
SUMMARY:Advocating With Confidence
DESCRIPTION:The Ruth Mott Foundation in partnership with the United Way of Genesee County is pleased to announce a half-day workshop on advocacy for nonprofits facilitated by Abby Levine. Cost is $10.00.\n\nLocation is: United Way of G.C. off Court Street - Lower Level Conference Room\n\nLimited seating for more information please email dwoodruff@bestprojonline.org
X-ALT-DESC;FMTTYPE=text/html:The Ruth Mott Foundation in partnership with the United Way of Genesee County is pleased to announce a half-day workshop on advocacy for nonprofits facilitated by Abby Levine. Cost is $10.00.\n\nLocation is: United Way of G.C. off Court Street - Lower Level Conference Room\n\nLimited seating for more information please email <a href="mailto:dwoodruff@bestprojonline.org">dwoodruff@bestprojonline.org</a>
LOCATION:
UID:e.2606.1044
SEQUENCE:3
DTSTAMP:20260421T101422Z
URL:https://members.flintandgeneseechamber.org/events/details/advocating-with-confidence-06-19-2014-1044
END:VEVENT

END:VCALENDAR
