BEGIN:VCALENDAR
VERSION:2.0
PRODID:-//ChamberMaster//Event Calendar 2.0//EN
METHOD:PUBLISH
X-PUBLISHED-TTL:P3D
REFRESH-INTERVAL:P3D
CALSCALE:GREGORIAN
BEGIN:VEVENT
DTSTART:20130517T153000Z
DTEND:20130517T170000Z
X-MICROSOFT-CDO-ALLDAYEVENT:FALSE
SUMMARY:African American Advisory Committee Lunch & Learn
DESCRIPTION:Learn how to transform your brand at the Flint & Genesee Chamber of Commerce African American Advisory Committee Lunch & Learn event\, “Transform from Invisible to Impeccable Using Expert Branding Techniques”.\n\nWalethia Aquil\, CEO of Grace and Charm will serve as the luncheon speaker.\n\nThe cost for the luncheon is $10.\n\nRegister online or contact Brian Sullivan at (810) 600-1404 or bsullivan@flintandgenesee.org.
X-ALT-DESC;FMTTYPE=text/html:Learn how to transform your brand at the Flint &amp\; Genesee Chamber of Commerce African American Advisory Committee Lunch &amp\; Learn event\, “Transform from Invisible to Impeccable Using Expert Branding Techniques”.\n\nWalethia Aquil\, CEO of <a href="http://graceandcharmblog.com/" target="_blank">Grace and Charm</a> will serve as the luncheon speaker.\n\nThe cost for the luncheon is $10.\n\nRegister online or contact Brian Sullivan at (810) 600-1404 or <a href="mailto:bsullivan@flintandgenesee.org">bsullivan@flintandgenesee.org</a>.
LOCATION:Riverfront Student Center University of Michigan-Flint Business School 1 Riverfront Center West Flint MI 48502
UID:e.2606.166
SEQUENCE:3
DTSTAMP:20260422T042001Z
URL:https://members.flintandgeneseechamber.org/events/details/african-american-advisory-committee-lunch-learn-05-17-2013-166
END:VEVENT

END:VCALENDAR
