BEGIN:VCALENDAR
VERSION:2.0
PRODID:-//ChamberMaster//Event Calendar 2.0//EN
METHOD:PUBLISH
X-PUBLISHED-TTL:P3D
REFRESH-INTERVAL:P3D
CALSCALE:GREGORIAN
BEGIN:VEVENT
DTSTART:20260115T223000Z
DTEND:20260116T030000Z
X-MICROSOFT-CDO-ALLDAYEVENT:FALSE
SUMMARY:African American Film Series: Lowndes County and the Road to Black Power
DESCRIPTION:Join us Thursday\, January 15\, 2026\, for Lowndes County and the Road to Black Power\, the third film in Communities First\, Inc.'s 11th Annual African American Film Series. This powerful documentary explores the rise of citizen-led voting rights campaigns in Lowndes County\, Alabama a Black-majority community that became a vital hub for the Civil Rights Movement. Experience this inspiring story at the Flint Institute of Arts\, 1120 E. Kearsley St.\, Flint\, MI 48503\, with dinner and live music starting at 5:30 PM\, the film at 6:45 PM\, and a discussion panel to follow. The event is free\, with a suggested $5 donation. Please register at https://tinyurl.com/AAFS2025.
X-ALT-DESC;FMTTYPE=text/html:Join us Thursday\, January 15\, 2026\, for <em>Lowndes County and the Road to Black Power</em>\, the third film in Communities First\, Inc.&rsquo\;s 11th Annual African American Film Series. This powerful documentary explores the rise of citizen-led voting rights campaigns in Lowndes County\, Alabama&mdash\;a Black-majority community that became a vital hub for the Civil Rights Movement. Experience this inspiring story at the Flint Institute of Arts\, 1120 E. Kearsley St.\, Flint\, MI 48503\, with dinner and live music starting at 5:30 PM\, the film at 6:45 PM\, and a discussion panel to follow. The event is free\, with a suggested $5 donation. Please register at <a href="https://tinyurl.com/AAFS2025" target="_new">https://tinyurl.com/AAFS2025</a>.
LOCATION:Flint Institute of Arts\, 1120 E. Kearsley St.\, Flint\, MI 48503
UID:e.2606.20139
SEQUENCE:3
DTSTAMP:20260421T174614Z
URL:https://members.flintandgeneseechamber.org/events/details/african-american-film-series-lowndes-county-and-the-road-to-black-power-20139
END:VEVENT

END:VCALENDAR
