BEGIN:VCALENDAR
VERSION:2.0
PRODID:-//ChamberMaster//Event Calendar 2.0//EN
METHOD:PUBLISH
X-PUBLISHED-TTL:P3D
REFRESH-INTERVAL:P3D
CALSCALE:GREGORIAN
BEGIN:VEVENT
DTSTART:20130124T220000Z
DTEND:20130125T000000Z
X-MICROSOFT-CDO-ALLDAYEVENT:FALSE
SUMMARY:After Hours Wine Down
DESCRIPTION:Sponsored by Redwood Lodge\n\nCost: Free
X-ALT-DESC;FMTTYPE=text/html:Sponsored by Redwood Lodge\n\nCost: Free
LOCATION:Redwood Lodge 5304 Gateway Centre Flint Michigan 45807
UID:e.2606.871
SEQUENCE:3
DTSTAMP:20260422T104653Z
URL:https://members.flintandgeneseechamber.org/events/details/after-hours-wine-down-01-24-2013-871
END:VEVENT

END:VCALENDAR
