BEGIN:VCALENDAR
VERSION:2.0
PRODID:-//ChamberMaster//Event Calendar 2.0//EN
METHOD:PUBLISH
X-PUBLISHED-TTL:P3D
REFRESH-INTERVAL:P3D
CALSCALE:GREGORIAN
BEGIN:VEVENT
DTSTART:20130328T210000Z
DTEND:20130328T230000Z
X-MICROSOFT-CDO-ALLDAYEVENT:FALSE
SUMMARY:After Hours Wine Down
DESCRIPTION:Sponsored by Bubba O’Malley’s\n\nCost: Free
X-ALT-DESC;FMTTYPE=text/html:Sponsored by Bubba O’Malley’s\n\nCost: Free
LOCATION:Bubba O'Malley's 1076 S Belsay Rd Burton Michigan 48509
UID:e.2606.28
SEQUENCE:3
DTSTAMP:20260422T072846Z
URL:https://members.flintandgeneseechamber.org/events/details/after-hours-wine-down-03-28-2013-28
END:VEVENT

END:VCALENDAR
