BEGIN:VCALENDAR
VERSION:2.0
PRODID:-//ChamberMaster//Event Calendar 2.0//EN
METHOD:PUBLISH
X-PUBLISHED-TTL:P3D
REFRESH-INTERVAL:P3D
CALSCALE:GREGORIAN
BEGIN:VEVENT
DTSTART:20130627T210000Z
DTEND:20130627T230000Z
X-MICROSOFT-CDO-ALLDAYEVENT:FALSE
SUMMARY:After Hours Wine Down
DESCRIPTION:Sponsored by Bavarian Inn\n\nCost: Free
X-ALT-DESC;FMTTYPE=text/html:Sponsored by Bavarian Inn\n\nCost: Free
LOCATION:Bavarian Inn 713 S Main Street Frankenmuth Michigan 48734
UID:e.2606.32
SEQUENCE:3
DTSTAMP:20260422T023004Z
URL:https://members.flintandgeneseechamber.org/events/details/after-hours-wine-down-06-27-2013-32
END:VEVENT

END:VCALENDAR
