BEGIN:VCALENDAR
VERSION:2.0
PRODID:-//ChamberMaster//Event Calendar 2.0//EN
METHOD:PUBLISH
X-PUBLISHED-TTL:P3D
REFRESH-INTERVAL:P3D
CALSCALE:GREGORIAN
BEGIN:VEVENT
DTSTART:20250123T220000Z
DTEND:20250124T000000Z
X-MICROSOFT-CDO-ALLDAYEVENT:FALSE
SUMMARY:After Hours Wine Down - January 2025
DESCRIPTION:Join us for our After Hours Wine Down! This exclusive two-hour casual networking event provides plenty of opportunities to connect with Chamber members\, friends\, & colleagues\, as well as make new connections in the Flint & Genesee business community.  Enjoy complimentary hors-d'oeuvres\, soft drinks\, wine and beer provided by our host\, Team One Credit Union - downtown Flint branch. Bring plenty of business cards to this open-format event (no agenda\, no guest speakers - just networking fun & good company!)\n\n\n\nSince it was established in 1935 in Saginaw\, TOCU has seen tremendous growth in assets\, loans\, branch facilities\, as well as new services and technologies which serve its members. Team One Credit Union service is available to residents in ALL Michigan counties\, and is proud to serve Michigan families and businesses with the financial services they need.  Hope you can join us!
X-ALT-DESC;FMTTYPE=text/html:<span style="font-family: sans-serif\, Arial\, Verdana\, &quot\;Trebuchet MS&quot\;\; background-color: rgb(255\, 255\, 255)\; font-size: 12px\; color: rgb(63\, 66\, 70)\;"><span style="font-family: arial\, sans-serif\;">Join us for our After Hours Wine Down! T</span></span><span background-color:="" style="color: rgb(51\, 51\, 51)\; font-family: sans-serif\, Arial\, Verdana\, &quot\;Trebuchet MS&quot\;\; background-color: rgb(255\, 255\, 255)\; font-size: 12px\;" trebuchet="">his exclusive two-hour casual networking event provides plenty of opportunities to connect with Chamber members\, friends\, &amp\; colleagues\, as well as make new connections in the Flint &amp\; Genesee business community.&nbsp\; Enjoy complimentary hors-d&#39\;oeuvres\, soft drinks\, wine and beer provided by our host\, Team One Credit Union - downtown Flint branch. Bring plenty of business cards to this open-format event (no agenda\, no guest speakers - just networking fun &amp\; good company!)<br />\n<br />\nSince it was established in 1935 in Saginaw\, TOCU has seen tremendous growth in assets\, loans\, branch facilities\, as well as new services and technologies which serve its members. Team One Credit Union service is available to residents in ALL Michigan counties\, and is proud to serve Michigan families and businesses with the financial services they need.&nbsp\; Hope you can join us!&nbsp\;</span>
LOCATION:Team One Credit Union 606 Stevens St Flint\, MI Located across the street from the Flint Farmers Market. Parking is available in the Credit Union parking lot.
UID:e.2606.18822
SEQUENCE:3
DTSTAMP:20260424T080515Z
URL:https://members.flintandgeneseechamber.org/events/details/after-hours-wine-down-january-2025-18822
END:VEVENT

END:VCALENDAR
