BEGIN:VCALENDAR
VERSION:2.0
PRODID:-//ChamberMaster//Event Calendar 2.0//EN
METHOD:PUBLISH
X-PUBLISHED-TTL:P3D
REFRESH-INTERVAL:P3D
CALSCALE:GREGORIAN
BEGIN:VEVENT
DTSTART:20140128T130000Z
DTEND:20140128T140000Z
X-MICROSOFT-CDO-ALLDAYEVENT:FALSE
SUMMARY:Ambassador Meeting
DESCRIPTION:Our monthly Ambassadors meeting will be held at the Flint & Genesee Chamber of Commerce.\n\nInterested in becoming an Ambassador? Or if you have any questions\, please contact Heather Kale at 810-600-1427.
X-ALT-DESC;FMTTYPE=text/html:Our monthly Ambassadors meeting will be held at the Flint &amp\; Genesee Chamber of Commerce.\n\nInterested in becoming an Ambassador? Or if you have any questions\, please contact Heather Kale at 810-600-1427.
LOCATION:
UID:e.2606.787
SEQUENCE:3
DTSTAMP:20260421T155959Z
URL:https://members.flintandgeneseechamber.org/events/details/ambassador-meeting-01-28-2014-787
END:VEVENT

END:VCALENDAR
