BEGIN:VCALENDAR
VERSION:2.0
PRODID:-//ChamberMaster//Event Calendar 2.0//EN
METHOD:PUBLISH
X-PUBLISHED-TTL:P3D
REFRESH-INTERVAL:P3D
CALSCALE:GREGORIAN
BEGIN:VEVENT
DTSTART;VALUE=DATE:20130323
DTEND;VALUE=DATE:20130324
TRANSP:TRANSPARENT
X-MICROSOFT-CDO-ALLDAYEVENT:TRUE
SUMMARY:Annual Easter Egg Hunt
DESCRIPTION:http://burtonmi.gov/
X-ALT-DESC;FMTTYPE=text/html:<a href="http://burtonmi.gov/" target="_blank">http://burtonmi.gov/</a>
LOCATION:
UID:e.2606.33
SEQUENCE:3
DTSTAMP:20260422T072847Z
URL:https://members.flintandgeneseechamber.org/events/details/annual-easter-egg-hunt-03-23-2013-33
END:VEVENT

END:VCALENDAR
