BEGIN:VCALENDAR
VERSION:2.0
PRODID:-//ChamberMaster//Event Calendar 2.0//EN
METHOD:PUBLISH
X-PUBLISHED-TTL:P3D
REFRESH-INTERVAL:P3D
CALSCALE:GREGORIAN
BEGIN:VEVENT
DTSTART:20130323T040000Z
DTEND:20130323T040000Z
X-MICROSOFT-CDO-ALLDAYEVENT:FALSE
SUMMARY:Annual Easter Egg Hunt - Burton
DESCRIPTION:For more details\, please visit http://burtonmi.gov.
X-ALT-DESC;FMTTYPE=text/html:For more details\, please visit http://burtonmi.gov.
LOCATION:
UID:e.2606.4
SEQUENCE:3
DTSTAMP:20260422T072924Z
URL:https://members.flintandgeneseechamber.org/events/details/annual-easter-egg-hunt-burton-03-23-2013-4
END:VEVENT

END:VCALENDAR
