BEGIN:VCALENDAR
VERSION:2.0
PRODID:-//ChamberMaster//Event Calendar 2.0//EN
METHOD:PUBLISH
X-PUBLISHED-TTL:P3D
REFRESH-INTERVAL:P3D
CALSCALE:GREGORIAN
BEGIN:VEVENT
DTSTART:20140402T160000Z
DTEND:20140402T173000Z
X-MICROSOFT-CDO-ALLDAYEVENT:FALSE
SUMMARY:Annual Meeting
DESCRIPTION:The Flint & Genesee Chamber of Commerce will highlight the Chamber’s 2013 results\, share business success stories and provide a look ahead at focus areas for 2014.\n\nRegistration opens at 11:30 a.m.\n\nLuncheon and Program: Noon to 1:30 p.m.\n\nFree and open to the public. Registration required.
X-ALT-DESC;FMTTYPE=text/html:The Flint &amp\; Genesee Chamber of Commerce will highlight the Chamber’s 2013 results\, share business success stories and provide a look ahead at focus areas for 2014.\n\nRegistration opens at 11:30 a.m.\n\nLuncheon and Program: Noon to 1:30 p.m.\n\nFree and open to the public. Registration required.
LOCATION:Holiday Inn Gateway Centre 5353 Gateway Centre Flint
UID:e.2606.792
SEQUENCE:3
DTSTAMP:20260421T112116Z
URL:https://members.flintandgeneseechamber.org/events/details/annual-meeting-04-02-2014-792
END:VEVENT

END:VCALENDAR
