BEGIN:VCALENDAR
VERSION:2.0
PRODID:-//ChamberMaster//Event Calendar 2.0//EN
METHOD:PUBLISH
X-PUBLISHED-TTL:P3D
REFRESH-INTERVAL:P3D
CALSCALE:GREGORIAN
BEGIN:VEVENT
DTSTART;VALUE=DATE:20130614
DTEND;VALUE=DATE:20130617
TRANSP:TRANSPARENT
X-MICROSOFT-CDO-ALLDAYEVENT:TRUE
SUMMARY:Antique Treasure Hunt
DESCRIPTION:"Let's Go On A Treasure Hunt" - Travel a 30-minute radius of Flint & Genesee and shop at over 25 different antique malls and shoppes featuring upwards of 1\,000 antique dealers. It all begins June 14 with a glass of wine\, some Flint & Genesee food samplings and a Vintage Fashion Show "Fashions Forgotten ... from the Bustle to the Hustle" at Americas Best Value Inn & Suites\, located off US-23 at Hill Road\, in Grand Blanc. The Fashion Show begins at 7 p.m. Here\, participants can pick up a road map and discount packets featuring area restaurants and special antique discounts. Maps and packets will be available for pick up all weekend. Shoppers can register for a $250 Visa Gift Card at each shop they visit (no purchase necessary). Call the Americas Best Value Inn & Suites for special overnight accommodations at (810) 233-9000.
X-ALT-DESC;FMTTYPE=text/html:"Let's Go On A Treasure Hunt" - Travel a 30-minute radius of Flint &amp\; Genesee and shop at over 25 different antique malls and shoppes featuring upwards of 1\,000 antique dealers. It all begins June 14 with a glass of wine\, some Flint &amp\; Genesee food samplings and a Vintage Fashion Show "Fashions Forgotten ... from the Bustle to the Hustle" at Americas Best Value Inn &amp\; Suites\, located off US-23 at Hill Road\, in Grand Blanc. The Fashion Show begins at 7 p.m. Here\, participants can pick up a road map and discount packets featuring area restaurants and special antique discounts. Maps and packets will be available for pick up all weekend. Shoppers can register for a $250 Visa Gift Card at each shop they visit (no purchase necessary). Call the Americas Best Value Inn &amp\; Suites for special overnight accommodations at (810) 233-9000.
LOCATION:
UID:e.2606.173
SEQUENCE:3
DTSTAMP:20260422T023149Z
URL:https://members.flintandgeneseechamber.org/events/details/antique-treasure-hunt-06-14-2013-173
END:VEVENT

END:VCALENDAR
