BEGIN:VCALENDAR
VERSION:2.0
PRODID:-//ChamberMaster//Event Calendar 2.0//EN
METHOD:PUBLISH
X-PUBLISHED-TTL:P3D
REFRESH-INTERVAL:P3D
CALSCALE:GREGORIAN
BEGIN:VEVENT
DTSTART:20140322T180000Z
DTEND:20140323T190000Z
X-MICROSOFT-CDO-ALLDAYEVENT:FALSE
SUMMARY:''Are We Alone'' at Longway Planetarium
DESCRIPTION:For hundreds of years people have looked to the stars and wondered if we are alone. Today we live in an unprecedented age of exploration of the Universe. Robots explore Mars\; giant telescopes look for worlds around other stars\, radio telescopes listen for tell-tale signs of life out there. Is there life on Mars? Is there life on one of the exo-planets? Are we alone? We are getting closer to the answer. Recommended for ages 10 and older. For details and a schedule of upcoming shows visit www.sloanlongway.com.
X-ALT-DESC;FMTTYPE=text/html:For hundreds of years people have looked to the stars and wondered if we are alone. Today we live in an unprecedented age of exploration of the Universe. Robots explore Mars\; giant telescopes look for worlds around other stars\, radio telescopes listen for tell-tale signs of life out there. Is there life on Mars? Is there life on one of the exo-planets? Are we alone? We are getting closer to the answer. Recommended for ages 10 and older. For details and a schedule of upcoming shows visit <a title="Longway Planetarium" href="http://www.sloanlongway.com/" target="_blank">www.sloanlongway.com</a>.
LOCATION:Longway Planetarium 1310 E. Kearsley Street Flint Michigan
UID:e.2606.770
SEQUENCE:3
DTSTAMP:20260421T124800Z
URL:https://members.flintandgeneseechamber.org/events/details/are-we-alone-at-longway-planetarium-03-22-2014-770
END:VEVENT

END:VCALENDAR
