BEGIN:VCALENDAR
VERSION:2.0
PRODID:-//ChamberMaster//Event Calendar 2.0//EN
METHOD:PUBLISH
X-PUBLISHED-TTL:P3D
REFRESH-INTERVAL:P3D
CALSCALE:GREGORIAN
BEGIN:VEVENT
DTSTART:20130620T160000Z
DTEND:20130811T210000Z
X-MICROSOFT-CDO-ALLDAYEVENT:FALSE
SUMMARY:''Around the World with 80 Objects'' exhibition at the Flint Institute of Arts
DESCRIPTION:On display from the FIA's vault\, these far away and long ago authentic objects will captivate and inspire all.\n\nFIA is open Monday-Wednesday & Friday 12 p.m. to 5 p.m.\, Thursday 12 p.m. to 9 p.m.\, Saturday 10 a.m. to 5 p.m. and Sunday 1 p.m. to 5 p.m. For details and a schedule of upcoming exhibits visit www.flintarts.org.
X-ALT-DESC;FMTTYPE=text/html:On display from the FIA's vault\, these far away and long ago authentic objects will captivate and inspire all.\n\nFIA is open Monday-Wednesday &amp\; Friday 12 p.m. to 5 p.m.\, Thursday 12 p.m. to 9 p.m.\, Saturday 10 a.m. to 5 p.m. and Sunday 1 p.m. to 5 p.m. For details and a schedule of upcoming exhibits visit <a title="Flint Institute of Arts" href="http://flintarts.org" target="_blank">www.flintarts.org</a>.\n\n&nbsp\;
LOCATION:Flint Institute of Arts 1120 E. Kearsley Street Flint MI 48502
UID:e.2606.232
SEQUENCE:3
DTSTAMP:20260421T234435Z
URL:https://members.flintandgeneseechamber.org/events/details/around-the-world-with-80-objects-exhibition-at-the-flint-institute-of-arts-06-20-2013-232
END:VEVENT

END:VCALENDAR
