BEGIN:VCALENDAR
VERSION:2.0
PRODID:-//ChamberMaster//Event Calendar 2.0//EN
METHOD:PUBLISH
X-PUBLISHED-TTL:P3D
REFRESH-INTERVAL:P3D
CALSCALE:GREGORIAN
BEGIN:VEVENT
DTSTART:20130620T160000Z
DTEND:20130721T210000Z
X-MICROSOFT-CDO-ALLDAYEVENT:FALSE
SUMMARY:''Art in Every Home'' exhibition at the Flint Institute of Arts
DESCRIPTION:During the Great Depression\, New York-based Associated American Artists (AAA) was formed to make original\, fine art affordable to middle-class families. Starting in 1934\, artists such as Thomas Hart Benton\, Peggy Bacon\, Grant Woods and Benny Andrews were hired to create etchings and lithographs priced and marketed to these families. View the FIA's collection by the AAA who played an important role in promoting American art in the early twentieth century through the postwar era.\n\nFIA is open Monday-Wednesday & Friday 12 p.m. to 5 p.m.\, Thursday 12 p.m. to 9 p.m.\, Saturday 10 a.m. to 5 p.m. and Sunday 1 p.m. to 5 p.m. For details and a schedule of upcoming exhibits visit www.flintarts.org.
X-ALT-DESC;FMTTYPE=text/html:During the Great Depression\, New York-based Associated American Artists (AAA) was formed to make original\, fine art affordable to middle-class families. Starting in 1934\, artists such as Thomas Hart Benton\, Peggy Bacon\, Grant Woods and Benny Andrews were hired to create etchings and lithographs priced and marketed to these families. View the FIA's collection by the AAA who played an important role in promoting American art in the early twentieth century through the postwar era.\n\nFIA is open Monday-Wednesday &amp\; Friday 12 p.m. to 5 p.m.\, Thursday 12 p.m. to 9 p.m.\, Saturday 10 a.m. to 5 p.m. and Sunday 1 p.m. to 5 p.m. For details and a schedule of upcoming exhibits visit <a title="Flint Institute of Arts" href="http://www.flintarts.org" target="_blank">www.flintarts.org</a>.\n\n&nbsp\;
LOCATION:Flint Institute of Arts 1120 E. Kearsley Street Flint MI 48502
UID:e.2606.233
SEQUENCE:3
DTSTAMP:20260422T010404Z
URL:https://members.flintandgeneseechamber.org/events/details/art-in-every-home-exhibition-at-the-flint-institute-of-arts-06-20-2013-233
END:VEVENT

END:VCALENDAR
