BEGIN:VCALENDAR
VERSION:2.0
PRODID:-//ChamberMaster//Event Calendar 2.0//EN
METHOD:PUBLISH
X-PUBLISHED-TTL:P3D
REFRESH-INTERVAL:P3D
CALSCALE:GREGORIAN
BEGIN:VEVENT
DTSTART:20130629T160000Z
DTEND:20130629T190000Z
X-MICROSOFT-CDO-ALLDAYEVENT:FALSE
SUMMARY:Artists\, Imagine\, Flint
DESCRIPTION:Enjoy this free family event showcasing Flint's community\, artists and Flint's Master Plan featuring performances\, activities for children\, food and more.
X-ALT-DESC;FMTTYPE=text/html:Enjoy this free family event showcasing Flint's community\, artists and Flint's Master Plan featuring performances\, activities for children\, food and more.
LOCATION:Downtown Flint City Hall's Dome 1101 S. Saginaw Street Flint Michigan
UID:e.2606.229
SEQUENCE:3
DTSTAMP:20260422T023041Z
URL:https://members.flintandgeneseechamber.org/events/details/artists-imagine-flint-06-29-2013-229
END:VEVENT

END:VCALENDAR
