BEGIN:VCALENDAR
VERSION:2.0
PRODID:-//ChamberMaster//Event Calendar 2.0//EN
METHOD:PUBLISH
X-PUBLISHED-TTL:P3D
REFRESH-INTERVAL:P3D
CALSCALE:GREGORIAN
BEGIN:VEVENT
DTSTART:20130817T040000Z
DTEND:20130818T000000Z
X-MICROSOFT-CDO-ALLDAYEVENT:FALSE
SUMMARY:''ARTOMOTIVE'' Back to the Bricks Competition and Benefit Auction
DESCRIPTION:
X-ALT-DESC;FMTTYPE=text/html:
LOCATION:
UID:e.2606.215
SEQUENCE:3
DTSTAMP:20260421T233958Z
URL:https://members.flintandgeneseechamber.org/events/details/artomotive-back-to-the-bricks-competition-and-benefit-auction-08-17-2013-215
END:VEVENT

END:VCALENDAR
