BEGIN:VCALENDAR
VERSION:2.0
PRODID:-//ChamberMaster//Event Calendar 2.0//EN
METHOD:PUBLISH
X-PUBLISHED-TTL:P3D
REFRESH-INTERVAL:P3D
CALSCALE:GREGORIAN
BEGIN:VEVENT
DTSTART;VALUE=DATE:20130719
DTEND;VALUE=DATE:20130720
TRANSP:TRANSPARENT
X-MICROSOFT-CDO-ALLDAYEVENT:TRUE
SUMMARY:“Artomotive – Raise The Hood” Back to the Bricks Competition
DESCRIPTION:The Artomotive Competition is a program developed between the Back to the Bricks Statue Committee\, the Greater Flint Arts Council and the Flint & Genesee Convention and Visitors Bureau to benefit the Automotive Pioneers Statue Fund.\n\nThis competition will be a major feature of the 2013 Back to the Bricks events. The theme for the inaugural contest is “Raise the Hood” with body shop painters\, traditional fine artists and the public in general invited to participate in this summer’s competition which will culminate in a benefit auction where the creations will be sold to support the funding of additional pioneer statues.\n\nThe only requirements for this competition are that you must be 18 years of age\, or older\, and that an automotive hood be incorporated into the work – complete creativity is encouraged. The competition includes two juried divisions – “Off Site” is where artists deliver their completed works to assigned Flint & Genesee locations on August 5 for exhibition and judging or “On-Site” is where artists will create their work at assigned Flint & Genesee locations beginning August 5 until noon on August 9 for judging.\n\nPrizes will be awarded for 1st\, 2nd and 3rd place. There will also be a “People’s Choice” Grand Prize. All entries will then be auctioned at a Benefit Auction held during the Back to the Bricks show on Saturday afternoon\, August 17.\n\nTo enter\, an application form and entry fee of $50 must be submitted to the Artomotive Committee on or before July 31\, 2013. All needed application information can be found at www.backtothebricks.org.
X-ALT-DESC;FMTTYPE=text/html:The Artomotive Competition is a program developed between the Back to the Bricks Statue Committee\, the Greater Flint Arts Council and the Flint &amp\; Genesee Convention and Visitors Bureau to benefit the Automotive Pioneers Statue Fund.\n\nThis competition will be a major feature of the 2013 Back to the Bricks events. The theme for the inaugural contest is “Raise the Hood” with body shop painters\, traditional fine artists and the public in general invited to participate in this summer’s competition which will culminate in a benefit auction where the creations will be sold to support the funding of additional pioneer statues.\n\nThe only requirements for this competition are that you must be 18 years of age\, or older\, and that an automotive hood be incorporated into the work – complete creativity is encouraged. The competition includes two juried divisions – “Off Site” is where artists deliver their completed works to assigned Flint &amp\; Genesee locations on August 5 for exhibition and judging or “On-Site” is where artists will create their work at assigned Flint &amp\; Genesee locations beginning August 5 until noon on August 9 for judging.\n\nPrizes will be awarded for 1st\, 2nd and 3rd place. There will also be a “People’s Choice” Grand Prize. All entries will then be auctioned at a Benefit Auction held during the Back to the Bricks show on Saturday afternoon\, August 17.\n\nTo enter\, an application form and entry fee of $50 must be submitted to the Artomotive Committee<strong> on or before July 31\, 2013</strong>. All needed application information can be found at <a title="Back to the Bricks Artomotive Raise The Hood Competition" href="http://backtothebricks.org/schedule/index.htm" target="_blank">www.backtothebricks.org</a>.
LOCATION:
UID:e.2606.389
SEQUENCE:3
DTSTAMP:20260422T005935Z
URL:https://members.flintandgeneseechamber.org/events/details/artomotive-raise-the-hood-back-to-the-bricks-competition-07-19-2013-389
END:VEVENT

END:VCALENDAR
