BEGIN:VCALENDAR
VERSION:2.0
PRODID:-//ChamberMaster//Event Calendar 2.0//EN
METHOD:PUBLISH
X-PUBLISHED-TTL:P3D
REFRESH-INTERVAL:P3D
CALSCALE:GREGORIAN
BEGIN:VEVENT
DTSTART:20130719T140000Z
DTEND:20130908T210000Z
X-MICROSOFT-CDO-ALLDAYEVENT:FALSE
SUMMARY:''Ask the Man that Owns One'' at Sloan Museum
DESCRIPTION:What made the Packard Motor Company a cut-above the rest of automobile manufacturers\, just “Ask the man who owns one.” The Detroit luxury car company’s longtime slogan spoke to the Packard’s status as the premier American vehicle of the first half of the 20th century. This display features stories of innovation by company engineers that changed the motoring experience forever\, shed light on the Packard “Guild” – young women of culture and refinement recruited to augment the Packard sales team – in addition to a collection of cars from each decade of the nearly 60 year run of “The World’s Favorite Fine Car.” Sloan Museum is open Monday-Friday from 10 a.m. to 5 p.m. and Saturday and Sunday from 12 p.m. to 5 p.m. For details and a schedule of upcoming displays and activities visit www.sloanlongway.org.
X-ALT-DESC;FMTTYPE=text/html:What made the Packard Motor Company a cut-above the rest of automobile manufacturers\, just “Ask the man who owns one.” The Detroit luxury car company’s longtime slogan spoke to the Packard’s status as the premier American vehicle of the first half of the 20<sup>th</sup> century. This display features stories of innovation by company engineers that changed the motoring experience forever\, shed light on the Packard “Guild” – young women of culture and refinement recruited to augment the Packard sales team – in addition to a collection of cars from each decade of the nearly 60 year run of “The World’s Favorite Fine Car.” Sloan Museum is open Monday-Friday from 10 a.m. to 5 p.m. and Saturday and Sunday from 12 p.m. to 5 p.m. For details and a schedule of upcoming displays and activities visit <a title="Sloan Museum " href="http://www.sloanlongway.org/" target="_blank">www.sloanlongway.org</a>.\n\n&nbsp\;
LOCATION:Sloan Museum 1221 E. Kearsley Street Flint Michigan
UID:e.2606.420
SEQUENCE:3
DTSTAMP:20260421T233958Z
URL:https://members.flintandgeneseechamber.org/events/details/ask-the-man-that-owns-one-at-sloan-museum-07-19-2013-420
END:VEVENT

END:VCALENDAR
