BEGIN:VCALENDAR
VERSION:2.0
PRODID:-//ChamberMaster//Event Calendar 2.0//EN
METHOD:PUBLISH
X-PUBLISHED-TTL:P3D
REFRESH-INTERVAL:P3D
CALSCALE:GREGORIAN
BEGIN:VEVENT
DTSTART:20140518T130000Z
DTEND:20140518T190000Z
X-MICROSOFT-CDO-ALLDAYEVENT:FALSE
SUMMARY:Baker College Car and Motorcycle Show
DESCRIPTION:Baker College Car and Motorcycle Show.  Free Event!\n\n9 a.m. to 3 p.m.\, Sunday\, May 18\n\nBaker College’s Center for Transportation Technology (CTT)\, 1717 S. Dort Highway\, Flint.\n\nBuckle your seat belts for a day of cars\, motorcycles and more at the Baker College of Flint Car and Motorcycle Show. The public is invited to this free event.\n\nThere will also be live music\, vendors\, refreshments and on-going tours of Baker's facility. An Abraham Lincoln impersonator will be available 11 a.m. to 1 p.m. for photos near Baker's fully restored and modified 1969 Lincoln Continental.\n\nCar and motorcycle entrant registration is 9 a.m. to noon on the day of the show\, with judging to follow. There are lots of prizes and trophies\, and there is no registration fee. Car and motorcycle clubs are welcome. The first 100 entrants will receive free lunch\, dash plaques and goodie bags. All entrants are eligible for prizes throughout the show.\n\nThere is also no charge for vendors\, but they must register at showinfo@baker.edu before the event.\n\nFor more information\, email showinfo@baker.edu or call 810.766.2260.
X-ALT-DESC;FMTTYPE=text/html:<em></em>\n\n<b>Baker College Car and Motorcycle Show.  Free Event!</b>\n\n9 a.m. to 3 p.m.\, Sunday\, May 18\n\nBaker College’s Center for Transportation Technology (CTT)\, 1717 S. Dort Highway\, Flint.\n\nBuckle your seat belts for a day of cars\, motorcycles and more at the Baker College of Flint Car and Motorcycle Show. The public is invited to this free event.\n\nThere will also be live music\, vendors\, refreshments and on-going tours of Baker's facility. An Abraham Lincoln impersonator will be available 11 a.m. to 1 p.m. for photos near Baker's fully restored and modified 1969 Lincoln Continental.\n\n<b>Car and motorcycle entrant registration</b> is 9 a.m. to noon on the day of the show\, with judging to follow. There are lots of prizes and trophies\, and there is no registration fee. Car and motorcycle clubs are welcome. The first 100 entrants will receive free lunch\, dash plaques and goodie bags. All entrants are eligible for prizes throughout the show.\n\n<b>There is also no charge for vendors</b>\, but they must register at <a href="mailto:showinfo@baker.edu">showinfo@baker.edu</a> before the event.\n\n<b>For more information</b>\, email <a href="mailto:showinfo@baker.edu">showinfo@baker.edu</a> or call 810.766.2260.
LOCATION:
UID:e.2606.866
SEQUENCE:3
DTSTAMP:20260421T102212Z
URL:https://members.flintandgeneseechamber.org/events/details/baker-college-car-and-motorcycle-show-05-18-2014-866
END:VEVENT

END:VCALENDAR
