BEGIN:VCALENDAR
VERSION:2.0
PRODID:-//ChamberMaster//Event Calendar 2.0//EN
METHOD:PUBLISH
X-PUBLISHED-TTL:P3D
REFRESH-INTERVAL:P3D
CALSCALE:GREGORIAN
BEGIN:VEVENT
DTSTART:20130728T130000Z
DTEND:20130728T190000Z
X-MICROSOFT-CDO-ALLDAYEVENT:FALSE
SUMMARY:Baker College Classic & Antique Semi-Truck Show
DESCRIPTION:This Classic & Antique Semi-Truck Show showcases classic big rigs that are 25 years or older.  Included are antique Class 8 tractors (GVWR 33\, 000 pounds) in any condition and show trucks of any age.  One of the highlights will be a restored 1940 General Motors Futurliner that criss-crossed North America to promote GM's products.\n\nNo admission fee.  It all FREE.\n\nTruck and semi-trailer entrie will be accepted 9:00am - noon\, July 28.  There is no registration fee.  All entrants will recieve dash plaques and goodie bags.  The first 10 entrants will also recieve free lunch.\n\nFor more information\, contact Baker College at showinfo@baker.edu 0r 810-766-2260
X-ALT-DESC;FMTTYPE=text/html:This Classic &amp\; Antique Semi-Truck Show showcases classic big rigs that are 25 years or older.  Included are antique Class 8 tractors (GVWR 33\, 000 pounds) in any condition and show trucks of any age.  One of the highlights will be a restored 1940 General Motors Futurliner that criss-crossed North America to promote GM's products.\n\nNo admission fee.  It all <strong>FREE</strong>.\n\nTruck and semi-trailer entrie will be accepted 9:00am - noon\, July 28.  There is no registration fee.  All entrants will recieve dash plaques and goodie bags.  The first 10 entrants will also recieve free lunch.\n\nFor more information\, contact Baker College at <a href="mailto:showinfo@baker.edu">showinfo@baker.edu</a> 0r 810-766-2260
LOCATION:
UID:e.2606.422
SEQUENCE:3
DTSTAMP:20260422T005928Z
URL:https://members.flintandgeneseechamber.org/events/details/baker-college-classic-antique-semi-truck-show-07-28-2013-422
END:VEVENT

END:VCALENDAR
