BEGIN:VCALENDAR
VERSION:2.0
PRODID:-//ChamberMaster//Event Calendar 2.0//EN
METHOD:PUBLISH
X-PUBLISHED-TTL:P3D
REFRESH-INTERVAL:P3D
CALSCALE:GREGORIAN
BEGIN:VEVENT
DTSTART:20131107T210000Z
DTEND:20131108T010000Z
X-MICROSOFT-CDO-ALLDAYEVENT:FALSE
SUMMARY:Baker College of Flint - Open House
DESCRIPTION:Baker College of Flint to host Engineering and Computer Technology Open House prospective students and their families can learn about academic programs and careers in engineering\, computers\, cyber defense and photonics\, among others.\n\nLocation: Center for Engineering and Computer Technology\, 1050 W. Bristol Road\, Flint. The public is invited
X-ALT-DESC;FMTTYPE=text/html:Baker College of Flint to host Engineering and Computer Technology Open House prospective students and their families can learn about academic programs and careers in engineering\, computers\, cyber defense and photonics\, among others.\n\nLocation: Center for Engineering and Computer Technology\, 1050 W. Bristol Road\, Flint. The public is invited\n\n&nbsp\;
LOCATION:
UID:e.2606.607
SEQUENCE:3
DTSTAMP:20260421T185043Z
URL:https://members.flintandgeneseechamber.org/events/details/baker-college-of-flint-open-house-11-07-2013-607
END:VEVENT

END:VCALENDAR
